Workbook

Sheet Hinweise
A1: Ausfüllanleitung - Hinweise zur Vereins-Übungsleiterabrechnung - Anlagen 6 und 7
A2: Fristen | B2: Formularsatz muss vom Übungsleiter erstellt werden - Beachte auch die Hinweise auf der Tabelle ÜL-Daten-Erfassung!
A3: Anträge an die Stadt | B3: Alle Anträge müssen über den Verein bis spätestens zum 1.4. des Folgejahres an die Sportabteilung der Stadt Immenstadt, Marienplatz, eingereicht werden. Nachträglich eingehende Abrechnungen können nicht mehr berücksichtigt werden!
A4: Vereinsanträge an das Landratsamt (staatl. Förderung) | B4: Für die staatliche, pauschale Vereinsförderung, in der auch die Übungsleiterbezuschussung enthalten ist, unbedingt den Termin (in der Regel 1. März) des LRA Oberallgäu beachten! Infos und Pdf-Formulare sind unter http://www.oberallgaeu.org - Landratsamt - Wirtschaft & Tourismus - Förderprogramme - abrufbar!
A5: Ausfüllanleitung für Excel | B5: Der Formularsatz für die ÜL-Bezuschussung durch die Stadt Immenstadt ist zur leichten Bearbeitung für MS-Excel gestaltet. Die Formulare können auch manuell ausgefüllt werden! Bitte deutlich schreiben!
A6: Erfassungsmaske | B6: Hier die zentrale Eingabe der ÜL- und Vereins-Stammdaten mit automatischer Datenübernahme in die entsprechenden Folgeformulare. Formular muss nicht ausgedruckt und nicht vorgelegt werden.
A7: Datum erfassen: | B7: Datumsangaben sind zur Erhaltung der Datumsfunktion für Monats- und Ferienberechnung mit Tag, Monat und Jahr (z.B. 01.01.07) einzugeben, Datum wird ggf. umformatiert, kann nur so als Datum erkannt werden.
A8: Wichtig: Übungszeiten | B8: Zur Zeitberechnung der Übungszeiten ist die Schreibweise mit Doppelpunkt, z.B. 17:30 (Stunde - "Doppelpunkt" - Minute), einzuhalten. Auch bei manuellem Ausfüllen beachten: Nur ganze Übungsstunden, á 45 Minuten, werden bezuschusst. Übungseinheiten mit 60 und 120 Minuten (=180 Min) entsprechend auf 45 bzw 90 Minuten anpassen. 3 Stunden á 60 Minuten ergeben 4 zuschussfähige Stunden.
A9: Trainingsstätte | B9: Die regelmäßige Trainings- oder Übungsstätte durch Eingabe der Schlüssel-Nr. in der Erfassungsmaske eingeben. Weitere, vom Regeltrainingsort abweichende Trainingsstätten sind im jeweiligen Stundennachweis, durch zusätzliche Eingabe der Schlüssel-Nr. auszuweisen!
A10: Unterschiedliche Trainingseinheiten | B10: In wenigen Fällen haben Übungsleiter an einem Tag zu unterschiedlichen Zeiten oder Trainingsstätten Training. Da nur zusammenhängende Zeiten erfasst werden können, ist in diesen Fällen ein eigener Formularsatz anzulegen. Selbstverständlich können unterschiedliche Gruppen oder Sportarten in Folge betreut werden. ÜL Stunden für andere Immenstädter Vereine müssen gesondert abgerechnet werden. (Beachte LRA-Abrechnung). ÜL Stunden für nicht städtische Vereine sind nicht ansetzbar!
A11: Tätigkeiten in mehreren Vereinen | B11: Übungsleitertätigkeiten, in unterschiedlichen Immenstädter Vereinen erbracht, sind für jeden Verein gesondert abzurechnen. Zusätzlich sind, wie wenn für nicht Immenstädter Vereine Leistungen erbracht werden, im Formular <ÜL-Abrechnung> Name und Anschrift des Vereines, die geleisteten Monatsstunden und die ausgeübte Sportarten einzutragen! Für die staatliche Vereinsförderung, die über das Landratsamt beantragt wird, gelten die hierfür zu beachtenden Förderrichtlinien .
A12: Wichtig: bei Datums-Fehleranzeige #### | B12: Zur Berechnung des Kalenders (insbesondere Schaltjahrausgabe und Anzeige der Ferien) benötigen die Tabellen die MS-Funktion "MONATSENDE". Sollte diese Funktion auf ihrem PC nicht installiert sein (Prüfe: Einfügen - Funktion - MONATSENDE, oder MENÜ: FORMELN - MONATSENDE). Wenn nicht vorhanden, dann unter Extras - Addins - Haken bei "Analysefunktion" setzen und mit "OK" beenden. Anschließend die Tabelle neu starten! Beachte: Anzeige <####> kann auch bei zu geringer Spaltenbreite angezeigt werden!
A13: Drucken Unterschrift | B13: Vor dem Drucken empfiehlt sich vorab eine Seitenansicht, weil die Formulare über die normale Randeinstellung drucken. Ggf. im Menü Seite einrichten die Randeinstellung für Ihren Drucker anpassen. Alle Daten werden in die ÜL-Abrechnung übernommen. Das Formular ist vom Übungsleiter und Vereinsvorsitzenden zu unterschreiben, der damit die Richtigkeit der Angaben bestätigt (Beachte auch Erstellung der Gesamtliste duch Verein).
A14: Auskunft und Fragen? | B14: Siegfried Wegmann Tel. 08323/6610 - Email: siegfried.wegmann@web.de
A15: {='ÜL-Daten-Erfassung'!A34:C34} -> © swegmann, 05.2020 | B15: 0 | C15: 0

Sheet ÜL-Daten-Erfassung
A1: Übungsleiter Abrechnung - Erfassungsmaske - Anlage 6 und 7 (Nur Eingabemaske - Blatt nicht ausdrucken!) | H1: Städtische Übungsstätten | M1: Zur Beachtung
A2: Übungsleiterabrechnung für Jahr (Eingabe 1.1.JJ) | E2: 46023 | H2: Nr. | I2: Sportstätte
A3: Vereinsname | H3: 1 | I3: Grüntenhalle
A4: Abteilung | C4: Abteilung | H4: 2 | I4: Hallenbad/Freibad | N4: Für jeden Übungsleiter ist eine gesonderte Abrechnung vorzulegen! Eine Zusammenfassung von mehreren Übungsleitern auf einer Abrechnung ist somit nicht möglich!
A5: 1. Vorsitzender | D5: Name | H5: 3 | I5: Jul.-Kunert-Halle 1/3
D6: Vorname | H6: 4 | I6: Jul.-Kunert-Halle 2/3
D7: Telefon | H7: 5 | I7: Jul.-Kunert-Halle ges. | N7: Wird eine Übungsstunde von einem Vertreter übernommen, so muss auch hier gesondert abgerechnet werden (Nur so ist der Nachweis einer gültigen Lizenz gewährleistet und auch eine Übereinstimmung zur staatl. Förderung gegeben - Antragsstellung auch hierfür beachten).
A8: Regelmäßige Übungsstätte: | D8: Schlüssel-Nr.: | H8: 6 | I8: Königsegghalle
A9: Übungsleiter | D9: Name | H9: 7 | I9: Leichtathletikanlage
D10: Vorname | H10: 8 | I10: Musikproberaum
D11: Straße, Hs.-Nr. | H11: 9 | I11: Platz1 Stadion Hauptplatz | N11: Jeder Übungsleiter bestätigt mit seiner Unterschrift, dass die Stunden von ihm erbracht wurden und für die gesamte Zeit eine gültige ÜL- oder Trainerlizenz erteilt war. Der Vereinsvorsitzende oder Abteilungsleiter bestätigt die Richtigkeit.
D12: PLZ Ort | H12: 10 | I12: Platz2 Stadion Kunstrasen
D13: Telefon | H13: 11 | I13: Platz3 - Nebenplatz KKH
A14: Bankverbindung | C14: IBAN: | H14: 12
C15: BIC: | H15: 13 | I15: Sporthalle Stein | N15: Die steuerrechtliche Behandlung ist Angelegenheit des Übungs-leiters, bzw. des Vereines - beachte Hinweise auf ÜL-Abrechnung.
C16: Bankname: | H16: 14 | I16: KG Am Graben
B17: Nummer des Übungsleiterausweises | H17: 15 | I17: Maria Stern | N17: Die Nichtbeachtung der Vorgaben bewirkt einen teilweisen oder gesamten Ausschluss aus der Übungsleiterförderung. In schwer-wiegenden Fällen, kann der fehlende Verein generell von der Sportförderung ausgeschlossen werden.
B18: Fachrichtung (A, A-L, A-S, J, F) | H18: 16 | I18: Kraftraum
C19: ausgestellt am | H19: 17 | I19: Schießanlage
C20: verlängert am | H20: 18 | I20: Sonstige/Trainingslager
C21: gültig bis | H21: 19 | I21: Nichtstädtische Anlage
C22: Gültigkeitsprüfung: | E22: =IF(E21="","Gültigkeitsdatum fehlt!",IF(E21<E2,"Prüfe Gültigkeit!","ÜL gültig")) -> Gültigkeitsdatum fehlt! | H22: 20 | I22: Vereinseigene Anlage
B23: mit Fortbildung des Fachverbandes | H23: 21 | M23: <= sonstige Sportstätte eingeben
C24: geleistete Stunden vom | H24: Schulferien in Bayern | Q24: =H26 -> 2025 | S24: bis | T24: =H30 -> 2029
C25: bis | H25: Jahr | I25: Weihnachten | K25: Winter | M25: Ostern | O25: Pfingsten | Q25: Sommer | S25: Herbst | U25: Weihnachten
B26: nebenberuflich | D26: ja/nein | H26: 2025 | I26: 45658 | J26: 45660 | K26: 45719 | L26: 45723 | M26: 45761 | N26: 45772 | O26: 45818 | P26: 45828 | Q26: 45870 | R26: 45915 | S26: 45964 | T26: 45968 | U26: 46013 | V26: 46027
B27: in der Sportart/Sportarten | H27: 2026 | I27: 46023 | J27: 46027 | K27: 46069 | L27: 46073 | M27: 46111 | N27: 46122 | O27: 46168 | P27: 46178 | Q27: 46237 | R27: 46279 | S27: 46328 | T27: 46332 | U27: 46380 | V27: 46395
H28: 2027 | I28: 46388 | J28: 46395 | K28: 46426 | L28: 46430 | M28: 46468 | N28: 46479 | O28: 46525 | P28: 46535 | Q28: 46601 | R28: 46643 | S28: 46693 | T28: 46696 | U28: 46745 | V28: 46759
A29: Tätigkeiten in weiteren Vereinen ja/nein | H29: 2028 | I29: 46753 | J29: 46759 | K29: 46811 | L29: 46815 | M29: 46853 | N29: 46864 | O29: 46910 | P29: 46920 | Q29: 46965 | R29: 47007 | S29: 47056 | T29: 47060 | U29: 47114 | V29: 47123
H30: 2029 | I30: 47119 | J30: 47123 | K30: 47161 | L30: 47165 | M30: 47203 | N30: 47214 | O30: 47260 | P30: 47270 | Q30: 47329 | R30: 47371 | S30: 47420 | T30: 47424 | U30: 47476 | V30: 47487
B31: =IF(E2="","",IF(OR(E29="ja",E29="nein"),"","Tätigkeit in anderem Verein muss ja oder nein sein")) -> Tätigkeit in anderem Verein muss ja oder nein sein | H31: ÄNDERUNG - FORTSCHREIBUNG DES FERIENKALENDERS:
B32: =IF(E29="ja","Sie üben zusätzliche Tätigkeiten in anderen Vereinen aus. Bitte ergänzen Sie deshalb im Formular ÜL-Abrechnung Name des Vereins und die Anzahl der geleisteten Monatsstunden!","") | H32: Die Änderung/Fortschreibung des Ferienkalenders erfolgt ausschließlich durch den Administrator. Bitte keine Üungsleiterabrechnung erstellen, wenn der Ferienkalender den aktuellen Antragszeitraum nicht erfaßt (Fehlerhafte Feriendarstellung)! Ggf. den Administrator kontaktieren.
A34: © swegmann, 05.2020
U1240: 99

Sheet Quartal_1
A1: Vereinsname: | D1: ='ÜL-Daten-Erfassung'!D3&"/"&'ÜL-Daten-Erfassung'!D4 -> / | K1: 1. Vorsitzender: Name Vorname | N1: ='ÜL-Daten-Erfassung'!E6&" "&'ÜL-Daten-Erfassung'!E5 | S1: Tel: | T1: ='ÜL-Daten-Erfassung'!E7 -> 0 | W1: WENN bei Gesamtstunden #WERT! ausgegeben wird, bitte Schreibweise der eingetragenen Uhrzeiten prüfen! Jede Uhrzeit muss mit Doppelpunkt (z.B: 17:45) geschrieben werden - wenn Schreibweise richtig, aber bei der Stundenberechnung werden diese Zeichen ### ausgegeben, dann in der Tabelle "Hinweise" Wichtige Hinweise bei Datumsfehler beachten!")
A2: Übungsleiter: | D2: ='ÜL-Daten-Erfassung'!E9&", "&'ÜL-Daten-Erfassung'!E10 -> , | I2: <=Name, Vorname | L2: Tel. | M2: ='ÜL-Daten-Erfassung'!E13 -> 0 | O2: Sportart/Mannschaft => | S2: =IF('ÜL-Daten-Erfassung'!$D$27="","",'ÜL-Daten-Erfassung'!$D$27)
A3: Übungsstätte: Nr. aus Verzeichnis eintragen => | D3: ='ÜL-Daten-Erfassung'!E8 -> 0 | E3: =IF('ÜL-Daten-Erfassung'!E8="","",LOOKUP(D3,'ÜL-Daten-Erfassung'!H3:H22,'ÜL-Daten-Erfassung'!I3:I22)) | Q3: vom | R3: ='ÜL-Daten-Erfassung'!E2 -> 46023 | T3: bis | U3: =IF('ÜL-Daten-Erfassung'!E2="","",EOMONTH(R3,2)) -> 46112
A4: Januar | C4: Übungszeiten | F4: Sportstätte (Schlüssel-Nr. nur erforderlich, wenn v.o. abweichend!) | H4: Februar | J4: Übungszeiten | M4: Sportstätte (Schlüssel-Nr. nur erforderlich, wenn v.o. abweichend!) | O4: März | Q4: Übungszeiten | T4: Sportstätte (Schlüssel-Nr. nur erforderlich, wenn v.o. abweichend!)
C5: von | D5: bis | E5: Std. | H5: Februar | J5: von | K5: bis | L5: Std. | O5: März | Q5: von | R5: bis | S5: Std. | W5: Ferienkalender
A6: =WEEKDAY(B6) -> 5 | B6: =R3 -> 46023 | E6: =IF(D6="","",(D6-C6)/45*60) | G6: =IF(F6="","",LOOKUP(F6,'ÜL-Daten-Erfassung'!$H$3:$H$23,'ÜL-Daten-Erfassung'!$I$3:$I$23)) | H6: =WEEKDAY(I6) -> 1 | I6: =B36+1 -> 46054 | L6: =IF(K6="","",(K6-J6)/45*60) | N6: =IF(M6="","",LOOKUP(M6,'ÜL-Daten-Erfassung'!$H$3:$H$23,'ÜL-Daten-Erfassung'!$I$3:$I$23)) | O6: =WEEKDAY(P6) -> 1 | P6: =IF(I34="",I33+1,I34+1) -> 46082 | S6: =IF(R6="","",(R6-Q6)/45*60) | U6: =IF(T6="","",LOOKUP(T6,'ÜL-Daten-Erfassung'!$H$3:$H$23,'ÜL-Daten-Erfassung'!$I$3:$I$23)) | W6: Jahr | X6: Weihnachten
A7: =WEEKDAY(B7) -> 6 | B7: =IF(B6<>"",B6+1,"") -> 46024 | E7: =IF(D7="","",(D7-C7)/45*60) | G7: =IF(F7="","",LOOKUP(F7,'ÜL-Daten-Erfassung'!$H$3:$H$23,'ÜL-Daten-Erfassung'!$I$3:$I$23)) | H7: =WEEKDAY(I7) -> 2 | I7: =I6+1 -> 46055 | L7: =IF(K7="","",(K7-J7)/45*60) | N7: =IF(M7="","",LOOKUP(M7,'ÜL-Daten-Erfassung'!$H$3:$H$23,'ÜL-Daten-Erfassung'!$I$3:$I$23)) | O7: =WEEKDAY(P7) -> 2 | P7: =P6+1 -> 46083 | S7: =IF(R7="","",(R7-Q7)/45*60) | U7: =IF(T7="","",LOOKUP(T7,'ÜL-Daten-Erfassung'!$H$3:$H$23,'ÜL-Daten-Erfassung'!$I$3:$I$23)) | W7: =R3 -> 46023 | X7: =LOOKUP(W7,'ÜL-Daten-Erfassung'!H26:H30,'ÜL-Daten-Erfassung'!I26:I30) -> 47119 | Y7: =LOOKUP(W7,'ÜL-Daten-Erfassung'!H26:H30,'ÜL-Daten-Erfassung'!J26:J30) -> 47123
A8: =WEEKDAY(B8) -> 7 | B8: =B7+1 -> 46025 | E8: =IF(D8="","",(D8-C8)/45*60) | G8: =IF(F8="","",LOOKUP(F8,'ÜL-Daten-Erfassung'!$H$3:$H$23,'ÜL-Daten-Erfassung'!$I$3:$I$23)) | H8: =WEEKDAY(I8) -> 3 | I8: =I7+1 -> 46056 | L8: =IF(K8="","",(K8-J8)/45*60) | N8: =IF(M8="","",LOOKUP(M8,'ÜL-Daten-Erfassung'!$H$3:$H$23,'ÜL-Daten-Erfassung'!$I$3:$I$23)) | O8: =WEEKDAY(P8) -> 3 | P8: =P7+1 -> 46084 | S8: =IF(R8="","",(R8-Q8)/45*60) | U8: =IF(T8="","",LOOKUP(T8,'ÜL-Daten-Erfassung'!$H$3:$H$23,'ÜL-Daten-Erfassung'!$I$3:$I$23)) | X8: Winter
A9: =WEEKDAY(B9) -> 1 | B9: =B8+1 -> 46026 | E9: =IF(D9="","",(D9-C9)/45*60) | G9: =IF(F9="","",LOOKUP(F9,'ÜL-Daten-Erfassung'!$H$3:$H$23,'ÜL-Daten-Erfassung'!$I$3:$I$23)) | H9: =WEEKDAY(I9) -> 4 | I9: =I8+1 -> 46057 | L9: =IF(K9="","",(K9-J9)/45*60) | N9: =IF(M9="","",LOOKUP(M9,'ÜL-Daten-Erfassung'!$H$3:$H$23,'ÜL-Daten-Erfassung'!$I$3:$I$23)) | O9: =WEEKDAY(P9) -> 4 | P9: =P8+1 -> 46085 | S9: =IF(R9="","",(R9-Q9)/45*60) | U9: =IF(T9="","",LOOKUP(T9,'ÜL-Daten-Erfassung'!$H$3:$H$23,'ÜL-Daten-Erfassung'!$I$3:$I$23)) | X9: =LOOKUP(W7,'ÜL-Daten-Erfassung'!H26:H30,'ÜL-Daten-Erfassung'!K26:K30) -> 47161 | Y9: =LOOKUP(W7,'ÜL-Daten-Erfassung'!H26:H30,'ÜL-Daten-Erfassung'!L26:L30) -> 47165
A10: =WEEKDAY(B10) -> 2 | B10: =B9+1 -> 46027 | E10: =IF(D10="","",(D10-C10)/45*60) | G10: =IF(F10="","",LOOKUP(F10,'ÜL-Daten-Erfassung'!$H$3:$H$23,'ÜL-Daten-Erfassung'!$I$3:$I$23)) | H10: =WEEKDAY(I10) -> 5 | I10: =I9+1 -> 46058 | L10: =IF(K10="","",(K10-J10)/45*60) | N10: =IF(M10="","",LOOKUP(M10,'ÜL-Daten-Erfassung'!$H$3:$H$23,'ÜL-Daten-Erfassung'!$I$3:$I$23)) | O10: =WEEKDAY(P10) -> 5 | P10: =P9+1 -> 46086 | S10: =IF(R10="","",(R10-Q10)/45*60) | U10: =IF(T10="","",LOOKUP(T10,'ÜL-Daten-Erfassung'!$H$3:$H$23,'ÜL-Daten-Erfassung'!$I$3:$I$23)) | X10: Ostern
A11: =WEEKDAY(B11) -> 3 | B11: =B10+1 -> 46028 | E11: =IF(D11="","",(D11-C11)/45*60) | G11: =IF(F11="","",LOOKUP(F11,'ÜL-Daten-Erfassung'!$H$3:$H$23,'ÜL-Daten-Erfassung'!$I$3:$I$23)) | H11: =WEEKDAY(I11) -> 6 | I11: =I10+1 -> 46059 | L11: =IF(K11="","",(K11-J11)/45*60) | N11: =IF(M11="","",LOOKUP(M11,'ÜL-Daten-Erfassung'!$H$3:$H$23,'ÜL-Daten-Erfassung'!$I$3:$I$23)) | O11: =WEEKDAY(P11) -> 6 | P11: =P10+1 -> 46087 | S11: =IF(R11="","",(R11-Q11)/45*60) | U11: =IF(T11="","",LOOKUP(T11,'ÜL-Daten-Erfassung'!$H$3:$H$23,'ÜL-Daten-Erfassung'!$I$3:$I$23)) | X11: =LOOKUP(W7,'ÜL-Daten-Erfassung'!H26:H30,'ÜL-Daten-Erfassung'!M26:M30) -> 47203 | Y11: =LOOKUP(W7,'ÜL-Daten-Erfassung'!H26:H30,'ÜL-Daten-Erfassung'!N26:N30) -> 47214
A12: =WEEKDAY(B12) -> 4 | B12: =B11+1 -> 46029 | E12: =IF(D12="","",(D12-C12)/45*60) | G12: =IF(F12="","",LOOKUP(F12,'ÜL-Daten-Erfassung'!$H$3:$H$23,'ÜL-Daten-Erfassung'!$I$3:$I$23)) | H12: =WEEKDAY(I12) -> 7 | I12: =I11+1 -> 46060 | L12: =IF(K12="","",(K12-J12)/45*60) | N12: =IF(M12="","",LOOKUP(M12,'ÜL-Daten-Erfassung'!$H$3:$H$23,'ÜL-Daten-Erfassung'!$I$3:$I$23)) | O12: =WEEKDAY(P12) -> 7 | P12: =P11+1 -> 46088 | S12: =IF(R12="","",(R12-Q12)/45*60) | U12: =IF(T12="","",LOOKUP(T12,'ÜL-Daten-Erfassung'!$H$3:$H$23,'ÜL-Daten-Erfassung'!$I$3:$I$23))
A13: =WEEKDAY(B13) -> 5 | B13: =B12+1 -> 46030 | E13: =IF(D13="","",(D13-C13)/45*60) | G13: =IF(F13="","",LOOKUP(F13,'ÜL-Daten-Erfassung'!$H$3:$H$23,'ÜL-Daten-Erfassung'!$I$3:$I$23)) | H13: =WEEKDAY(I13) -> 1 | I13: =I12+1 -> 46061 | L13: =IF(K13="","",(K13-J13)/45*60) | N13: =IF(M13="","",LOOKUP(M13,'ÜL-Daten-Erfassung'!$H$3:$H$23,'ÜL-Daten-Erfassung'!$I$3:$I$23)) | O13: =WEEKDAY(P13) -> 1 | P13: =P12+1 -> 46089 | S13: =IF(R13="","",(R13-Q13)/45*60) | U13: =IF(T13="","",LOOKUP(T13,'ÜL-Daten-Erfassung'!$H$3:$H$23,'ÜL-Daten-Erfassung'!$I$3:$I$23))
A14: =WEEKDAY(B14) -> 6 | B14: =B13+1 -> 46031 | E14: =IF(D14="","",(D14-C14)/45*60) | G14: =IF(F14="","",LOOKUP(F14,'ÜL-Daten-Erfassung'!$H$3:$H$23,'ÜL-Daten-Erfassung'!$I$3:$I$23)) | H14: =WEEKDAY(I14) -> 2 | I14: =I13+1 -> 46062 | L14: =IF(K14="","",(K14-J14)/45*60) | N14: =IF(M14="","",LOOKUP(M14,'ÜL-Daten-Erfassung'!$H$3:$H$23,'ÜL-Daten-Erfassung'!$I$3:$I$23)) | O14: =WEEKDAY(P14) -> 2 | P14: =P13+1 -> 46090 | S14: =IF(R14="","",(R14-Q14)/45*60) | U14: =IF(T14="","",LOOKUP(T14,'ÜL-Daten-Erfassung'!$H$3:$H$23,'ÜL-Daten-Erfassung'!$I$3:$I$23))
A15: =WEEKDAY(B15) -> 7 | B15: =B14+1 -> 46032 | E15: =IF(D15="","",(D15-C15)/45*60) | G15: =IF(F15="","",LOOKUP(F15,'ÜL-Daten-Erfassung'!$H$3:$H$23,'ÜL-Daten-Erfassung'!$I$3:$I$23)) | H15: =WEEKDAY(I15) -> 3 | I15: =I14+1 -> 46063 | L15: =IF(K15="","",(K15-J15)/45*60) | N15: =IF(M15="","",LOOKUP(M15,'ÜL-Daten-Erfassung'!$H$3:$H$23,'ÜL-Daten-Erfassung'!$I$3:$I$23)) | O15: =WEEKDAY(P15) -> 3 | P15: =P14+1 -> 46091 | S15: =IF(R15="","",(R15-Q15)/45*60) | U15: =IF(T15="","",LOOKUP(T15,'ÜL-Daten-Erfassung'!$H$3:$H$23,'ÜL-Daten-Erfassung'!$I$3:$I$23)) | W15: =IF(Quartal_1!D3<1,"Bitte Schlüsselnummer für regelmäßig genutzte Übungsstätte eintragen (aus Tabelle <Hinweise> entnehmen)! Nur für abweichende zusätzliche Trainingsstätten Schlüsselnummer für die jeweilige Nutzung in der Liste ergänzen!","") -> Bitte Schlüsselnummer für regelmäßig genutzte Übungsstätte eintragen (aus Tabelle <Hinweise> entnehmen)! Nur für abweichende zusätzliche Trainingsstätten Schlüsselnummer für die jeweilige Nutzung in der Liste ergänzen!
A16: =WEEKDAY(B16) -> 1 | B16: =B15+1 -> 46033 | E16: =IF(D16="","",(D16-C16)/45*60) | G16: =IF(F16="","",LOOKUP(F16,'ÜL-Daten-Erfassung'!$H$3:$H$23,'ÜL-Daten-Erfassung'!$I$3:$I$23)) | H16: =WEEKDAY(I16) -> 4 | I16: =I15+1 -> 46064 | L16: =IF(K16="","",(K16-J16)/45*60) | N16: =IF(M16="","",LOOKUP(M16,'ÜL-Daten-Erfassung'!$H$3:$H$23,'ÜL-Daten-Erfassung'!$I$3:$I$23)) | O16: =WEEKDAY(P16) -> 4 | P16: =P15+1 -> 46092 | S16: =IF(R16="","",(R16-Q16)/45*60) | U16: =IF(T16="","",LOOKUP(T16,'ÜL-Daten-Erfassung'!$H$3:$H$23,'ÜL-Daten-Erfassung'!$I$3:$I$23))
A17: =WEEKDAY(B17) -> 2 | B17: =B16+1 -> 46034 | E17: =IF(D17="","",(D17-C17)/45*60) | G17: =IF(F17="","",LOOKUP(F17,'ÜL-Daten-Erfassung'!$H$3:$H$23,'ÜL-Daten-Erfassung'!$I$3:$I$23)) | H17: =WEEKDAY(I17) -> 5 | I17: =I16+1 -> 46065 | L17: =IF(K17="","",(K17-J17)/45*60) | N17: =IF(M17="","",LOOKUP(M17,'ÜL-Daten-Erfassung'!$H$3:$H$23,'ÜL-Daten-Erfassung'!$I$3:$I$23)) | O17: =WEEKDAY(P17) -> 5 | P17: =P16+1 -> 46093 | S17: =IF(R17="","",(R17-Q17)/45*60) | U17: =IF(T17="","",LOOKUP(T17,'ÜL-Daten-Erfassung'!$H$3:$H$23,'ÜL-Daten-Erfassung'!$I$3:$I$23))
A18: =WEEKDAY(B18) -> 3 | B18: =B17+1 -> 46035 | E18: =IF(D18="","",(D18-C18)/45*60) | G18: =IF(F18="","",LOOKUP(F18,'ÜL-Daten-Erfassung'!$H$3:$H$23,'ÜL-Daten-Erfassung'!$I$3:$I$23)) | H18: =WEEKDAY(I18) -> 6 | I18: =I17+1 -> 46066 | L18: =IF(K18="","",(K18-J18)/45*60) | N18: =IF(M18="","",LOOKUP(M18,'ÜL-Daten-Erfassung'!$H$3:$H$23,'ÜL-Daten-Erfassung'!$I$3:$I$23)) | O18: =WEEKDAY(P18) -> 6 | P18: =P17+1 -> 46094 | S18: =IF(R18="","",(R18-Q18)/45*60) | U18: =IF(T18="","",LOOKUP(T18,'ÜL-Daten-Erfassung'!$H$3:$H$23,'ÜL-Daten-Erfassung'!$I$3:$I$23))
A19: =WEEKDAY(B19) -> 4 | B19: =B18+1 -> 46036 | E19: =IF(D19="","",(D19-C19)/45*60) | G19: =IF(F19="","",LOOKUP(F19,'ÜL-Daten-Erfassung'!$H$3:$H$23,'ÜL-Daten-Erfassung'!$I$3:$I$23)) | H19: =WEEKDAY(I19) -> 7 | I19: =I18+1 -> 46067 | L19: =IF(K19="","",(K19-J19)/45*60) | N19: =IF(M19="","",LOOKUP(M19,'ÜL-Daten-Erfassung'!$H$3:$H$23,'ÜL-Daten-Erfassung'!$I$3:$I$23)) | O19: =WEEKDAY(P19) -> 7 | P19: =P18+1 -> 46095 | S19: =IF(R19="","",(R19-Q19)/45*60) | U19: =IF(T19="","",LOOKUP(T19,'ÜL-Daten-Erfassung'!$H$3:$H$23,'ÜL-Daten-Erfassung'!$I$3:$I$23))
A20: =WEEKDAY(B20) -> 5 | B20: =B19+1 -> 46037 | E20: =IF(D20="","",(D20-C20)/45*60) | G20: =IF(F20="","",LOOKUP(F20,'ÜL-Daten-Erfassung'!$H$3:$H$23,'ÜL-Daten-Erfassung'!$I$3:$I$23)) | H20: =WEEKDAY(I20) -> 1 | I20: =I19+1 -> 46068 | L20: =IF(K20="","",(K20-J20)/45*60) | N20: =IF(M20="","",LOOKUP(M20,'ÜL-Daten-Erfassung'!$H$3:$H$23,'ÜL-Daten-Erfassung'!$I$3:$I$23)) | O20: =WEEKDAY(P20) -> 1 | P20: =P19+1 -> 46096 | S20: =IF(R20="","",(R20-Q20)/45*60) | U20: =IF(T20="","",LOOKUP(T20,'ÜL-Daten-Erfassung'!$H$3:$H$23,'ÜL-Daten-Erfassung'!$I$3:$I$23))
A21: =WEEKDAY(B21) -> 6 | B21: =B20+1 -> 46038 | E21: =IF(D21="","",(D21-C21)/45*60) | G21: =IF(F21="","",LOOKUP(F21,'ÜL-Daten-Erfassung'!$H$3:$H$23,'ÜL-Daten-Erfassung'!$I$3:$I$23)) | H21: =WEEKDAY(I21) -> 2 | I21: =I20+1 -> 46069 | L21: =IF(K21="","",(K21-J21)/45*60) | N21: =IF(M21="","",LOOKUP(M21,'ÜL-Daten-Erfassung'!$H$3:$H$23,'ÜL-Daten-Erfassung'!$I$3:$I$23)) | O21: =WEEKDAY(P21) -> 2 | P21: =P20+1 -> 46097 | S21: =IF(R21="","",(R21-Q21)/45*60) | U21: =IF(T21="","",LOOKUP(T21,'ÜL-Daten-Erfassung'!$H$3:$H$23,'ÜL-Daten-Erfassung'!$I$3:$I$23))
A22: =WEEKDAY(B22) -> 7 | B22: =B21+1 -> 46039 | E22: =IF(D22="","",(D22-C22)/45*60) | G22: =IF(F22="","",LOOKUP(F22,'ÜL-Daten-Erfassung'!$H$3:$H$23,'ÜL-Daten-Erfassung'!$I$3:$I$23)) | H22: =WEEKDAY(I22) -> 3 | I22: =I21+1 -> 46070 | L22: =IF(K22="","",(K22-J22)/45*60) | N22: =IF(M22="","",LOOKUP(M22,'ÜL-Daten-Erfassung'!$H$3:$H$23,'ÜL-Daten-Erfassung'!$I$3:$I$23)) | O22: =WEEKDAY(P22) -> 3 | P22: =P21+1 -> 46098 | S22: =IF(R22="","",(R22-Q22)/45*60) | U22: =IF(T22="","",LOOKUP(T22,'ÜL-Daten-Erfassung'!$H$3:$H$23,'ÜL-Daten-Erfassung'!$I$3:$I$23))
A23: =WEEKDAY(B23) -> 1 | B23: =B22+1 -> 46040 | E23: =IF(D23="","",(D23-C23)/45*60) | G23: =IF(F23="","",LOOKUP(F23,'ÜL-Daten-Erfassung'!$H$3:$H$23,'ÜL-Daten-Erfassung'!$I$3:$I$23)) | H23: =WEEKDAY(I23) -> 4 | I23: =I22+1 -> 46071 | L23: =IF(K23="","",(K23-J23)/45*60) | N23: =IF(M23="","",LOOKUP(M23,'ÜL-Daten-Erfassung'!$H$3:$H$23,'ÜL-Daten-Erfassung'!$I$3:$I$23)) | O23: =WEEKDAY(P23) -> 4 | P23: =P22+1 -> 46099 | S23: =IF(R23="","",(R23-Q23)/45*60) | U23: =IF(T23="","",LOOKUP(T23,'ÜL-Daten-Erfassung'!$H$3:$H$23,'ÜL-Daten-Erfassung'!$I$3:$I$23))
A24: =WEEKDAY(B24) -> 2 | B24: =B23+1 -> 46041 | E24: =IF(D24="","",(D24-C24)/45*60) | G24: =IF(F24="","",LOOKUP(F24,'ÜL-Daten-Erfassung'!$H$3:$H$23,'ÜL-Daten-Erfassung'!$I$3:$I$23)) | H24: =WEEKDAY(I24) -> 5 | I24: =I23+1 -> 46072 | L24: =IF(K24="","",(K24-J24)/45*60) | N24: =IF(M24="","",LOOKUP(M24,'ÜL-Daten-Erfassung'!$H$3:$H$23,'ÜL-Daten-Erfassung'!$I$3:$I$23)) | O24: =WEEKDAY(P24) -> 5 | P24: =P23+1 -> 46100 | S24: =IF(R24="","",(R24-Q24)/45*60) | U24: =IF(T24="","",LOOKUP(T24,'ÜL-Daten-Erfassung'!$H$3:$H$23,'ÜL-Daten-Erfassung'!$I$3:$I$23))
A25: =WEEKDAY(B25) -> 3 | B25: =B24+1 -> 46042 | E25: =IF(D25="","",(D25-C25)/45*60) | G25: =IF(F25="","",LOOKUP(F25,'ÜL-Daten-Erfassung'!$H$3:$H$23,'ÜL-Daten-Erfassung'!$I$3:$I$23)) | H25: =WEEKDAY(I25) -> 6 | I25: =I24+1 -> 46073 | L25: =IF(K25="","",(K25-J25)/45*60) | N25: =IF(M25="","",LOOKUP(M25,'ÜL-Daten-Erfassung'!$H$3:$H$23,'ÜL-Daten-Erfassung'!$I$3:$I$23)) | O25: =WEEKDAY(P25) -> 6 | P25: =P24+1 -> 46101 | S25: =IF(R25="","",(R25-Q25)/45*60) | U25: =IF(T25="","",LOOKUP(T25,'ÜL-Daten-Erfassung'!$H$3:$H$23,'ÜL-Daten-Erfassung'!$I$3:$I$23))
A26: =WEEKDAY(B26) -> 4 | B26: =B25+1 -> 46043 | E26: =IF(D26="","",(D26-C26)/45*60) | G26: =IF(F26="","",LOOKUP(F26,'ÜL-Daten-Erfassung'!$H$3:$H$23,'ÜL-Daten-Erfassung'!$I$3:$I$23)) | H26: =WEEKDAY(I26) -> 7 | I26: =I25+1 -> 46074 | L26: =IF(K26="","",(K26-J26)/45*60) | N26: =IF(M26="","",LOOKUP(M26,'ÜL-Daten-Erfassung'!$H$3:$H$23,'ÜL-Daten-Erfassung'!$I$3:$I$23)) | O26: =WEEKDAY(P26) -> 7 | P26: =P25+1 -> 46102 | S26: =IF(R26="","",(R26-Q26)/45*60) | U26: =IF(T26="","",LOOKUP(T26,'ÜL-Daten-Erfassung'!$H$3:$H$23,'ÜL-Daten-Erfassung'!$I$3:$I$23))
A27: =WEEKDAY(B27) -> 5 | B27: =B26+1 -> 46044 | E27: =IF(D27="","",(D27-C27)/45*60) | G27: =IF(F27="","",LOOKUP(F27,'ÜL-Daten-Erfassung'!$H$3:$H$23,'ÜL-Daten-Erfassung'!$I$3:$I$23)) | H27: =WEEKDAY(I27) -> 1 | I27: =I26+1 -> 46075 | L27: =IF(K27="","",(K27-J27)/45*60) | N27: =IF(M27="","",LOOKUP(M27,'ÜL-Daten-Erfassung'!$H$3:$H$23,'ÜL-Daten-Erfassung'!$I$3:$I$23)) | O27: =WEEKDAY(P27) -> 1 | P27: =P26+1 -> 46103 | S27: =IF(R27="","",(R27-Q27)/45*60) | U27: =IF(T27="","",LOOKUP(T27,'ÜL-Daten-Erfassung'!$H$3:$H$23,'ÜL-Daten-Erfassung'!$I$3:$I$23))
... A33: =WEEKDAY(B33) -> 4 | B33: =B32+1 -> 46050 | E33: =IF(D33="","",(D33-C33)/45*60) | G33: =IF(F33="","",LOOKUP(F33,'ÜL-Daten-Erfassung'!$H$3:$H$23,'ÜL-Daten-Erfassung'!$I$3:$I$23)) | H33: =WEEKDAY(I33) -> 7 | I33: =I32+1 -> 46081 | L33: =IF(K33="","",(K33-J33)/45*60) | N33: =IF(M33="","",LOOKUP(M33,'ÜL-Daten-Erfassung'!$H$3:$H$23,'ÜL-Daten-Erfassung'!$I$3:$I$23)) | O33: =WEEKDAY(P33) -> 7 | P33: =P32+1 -> 46109 | S33: =IF(R33="","",(R33-Q33)/45*60) | U33: =IF(T33="","",LOOKUP(T33,'ÜL-Daten-Erfassung'!$H$3:$H$23,'ÜL-Daten-Erfassung'!$I$3:$I$23))
A34: =WEEKDAY(B34) -> 5 | B34: =B33+1 -> 46051 | E34: =IF(D34="","",(D34-C34)/45*60) | G34: =IF(F34="","",LOOKUP(F34,'ÜL-Daten-Erfassung'!$H$3:$H$23,'ÜL-Daten-Erfassung'!$I$3:$I$23)) | H34: =IF(I34<>"",WEEKDAY(I34),"") | I34: =IF(EOMONTH(I6,0)=I33,"",EOMONTH(I6,0)) | L34: =IF(K34="","",(K34-J34)/45*60) | N34: =IF(M34="","",LOOKUP(M34,'ÜL-Daten-Erfassung'!$H$3:$H$23,'ÜL-Daten-Erfassung'!$I$3:$I$23)) | O34: =IF(P34<>"",WEEKDAY(P34),"") -> 1 | P34: =P33+1 -> 46110 | S34: =IF(R34="","",(R34-Q34)/45*60) | U34: =IF(T34="","",LOOKUP(T34,'ÜL-Daten-Erfassung'!$H$3:$H$23,'ÜL-Daten-Erfassung'!$I$3:$I$23))
A35: =WEEKDAY(B35) -> 6 | B35: =B34+1 -> 46052 | E35: =IF(D35="","",(D35-C35)/45*60) | G35: =IF(F35="","",LOOKUP(F35,'ÜL-Daten-Erfassung'!$H$3:$H$23,'ÜL-Daten-Erfassung'!$I$3:$I$23)) | N35: =IF(M35="","",LOOKUP(M35,'ÜL-Daten-Erfassung'!$H$3:$H$23,'ÜL-Daten-Erfassung'!$I$3:$I$23)) | O35: =WEEKDAY(P35) -> 2 | P35: =P34+1 -> 46111 | S35: =IF(R35="","",(R35-Q35)/45*60) | U35: =IF(T35="","",LOOKUP(T35,'ÜL-Daten-Erfassung'!$H$3:$H$23,'ÜL-Daten-Erfassung'!$I$3:$I$23))
A36: =WEEKDAY(B36) -> 7 | B36: =B35+1 -> 46053 | E36: =IF(D36="","",(D36-C36)/45*60) | G36: =IF(F36="","",LOOKUP(F36,'ÜL-Daten-Erfassung'!$H$3:$H$23,'ÜL-Daten-Erfassung'!$I$3:$I$23)) | N36: =IF(M36="","",LOOKUP(M36,'ÜL-Daten-Erfassung'!$H$3:$H$23,'ÜL-Daten-Erfassung'!$I$3:$I$23)) | O36: =WEEKDAY(P36) -> 3 | P36: =P35+1 -> 46112 | S36: =IF(R36="","",(R36-Q36)/45*60) | U36: =IF(T36="","",LOOKUP(T36,'ÜL-Daten-Erfassung'!$H$3:$H$23,'ÜL-Daten-Erfassung'!$I$3:$I$23))
A37: Gesamt | D37: =SUM(E6:E36) -> 0 | G37: Anlage 6 | H37: Gesamt | K37: =SUM(L6:L36) -> 0 | M37: Stand 01.2017/©swegmann | O37: Gesamt | R37: =SUM(S6:S36) -> 0 | T37: Jan-Mär | U37: =SUM(D37+K37+R37) -> 0
A39: Hinweis: | D39: Eine bezuschussungsfähige Übungsstunden beträgt 45 Minuten. Es können nur volle Übungsstunden (also 45 Minuten) in Ansatz gebracht werden. Ganze Stunden (60 Minuten) sind entsprechend auf 45 Minuten zu kürzen, auch wenn sie deshalb von der zugeteilten Übungszeit abweichen.
D41: Übungszeit z.B. von 17:00 - 18:00 ist abgerundet von 17:00 bis 17:45 Uhr (ist 1 Stunde) zu erfassen- 90 Minuten werden als 2 Stunden ausgewiesen!
D42: Beachte hierzu Hinweise: Übungszeiten!!
D43: =IF(U37>0,"",U37) -> 0 | F43: <== Wenn Fehlermeldung #WERT! angezeigt wird: PRÜFE Stundeneingabe (Fehler ##### in Spalte Std.)
F44: Stundenspalte <von - bis> EINGABE muss immer mit DOPPELPUNKT (z.B. 18:00) erfolgen!!

Sheet Quartal_2
A1: Verein | D1: ='ÜL-Daten-Erfassung'!D3 -> 0
A2: Übungsleiter: | D2: ='ÜL-Daten-Erfassung'!E9&", "&'ÜL-Daten-Erfassung'!E10 -> , | N2: Stunden/Summe Quartal 1 und 2: | T2: =SUM(Quartal_1!U37+U37) -> 0
A3: Übungsleiterabrechnung | F3: 2. Quartal | H3: vom | J3: =Quartal_1!P36+1 -> 46113 | N3: bis | O3: =P35 -> 46203 | U3: =Quartal_1!U2 -> 0
A4: April | C4: Übungszeiten | F4: Sportstätte (Schlüssel-Nr. nur erforderlich, wenn v.o. abweichend!) | H4: Mai | J4: Übungszeiten | M4: Sportstätte (Schlüssel-Nr. nur erforderlich, wenn v.o. abweichend!) | O4: Juni | Q4: Übungszeiten | T4: Sportstätte (Schlüssel-Nr. nur erforderlich, wenn v.o. abweichend!)
C5: von | D5: bis | E5: Std. | H5: Februar | J5: von | K5: bis | L5: Std. | O5: März | Q5: von | R5: bis | S5: Std. | W5: Ferienkalender
A6: =WEEKDAY(B6) -> 4 | B6: =J3 -> 46113 | E6: =IF(D6="","",(D6-C6)/45*60) | G6: =IF(F6="","",LOOKUP(F6,'ÜL-Daten-Erfassung'!$H$3:$H$23,'ÜL-Daten-Erfassung'!$I$3:$I$23)) | H6: =WEEKDAY(I6) -> 6 | I6: =B35+1 -> 46143 | L6: =IF(K6="","",(K6-J6)/45*60) | N6: =IF(M6="","",LOOKUP(M6,'ÜL-Daten-Erfassung'!$H$3:$H$23,'ÜL-Daten-Erfassung'!$I$3:$I$23)) | O6: =WEEKDAY(P6) -> 2 | P6: =I36+1 -> 46174 | S6: =IF(R6="","",(R6-Q6)/45*60) | U6: =IF(T6="","",LOOKUP(T6,'ÜL-Daten-Erfassung'!$H$3:$H$23,'ÜL-Daten-Erfassung'!$I$3:$I$23)) | W6: Jahr | Y6: Ostern
A7: =WEEKDAY(B7) -> 5 | B7: =IF(B6<>"",B6+1,"") -> 46114 | E7: =IF(D7="","",(D7-C7)/45*60) | G7: =IF(F7="","",LOOKUP(F7,'ÜL-Daten-Erfassung'!$H$3:$H$23,'ÜL-Daten-Erfassung'!$I$3:$I$23)) | H7: =WEEKDAY(I7) -> 7 | I7: =I6+1 -> 46144 | L7: =IF(K7="","",(K7-J7)/45*60) | N7: =IF(M7="","",LOOKUP(M7,'ÜL-Daten-Erfassung'!$H$3:$H$23,'ÜL-Daten-Erfassung'!$I$3:$I$23)) | O7: =WEEKDAY(P7) -> 3 | P7: =P6+1 -> 46175 | S7: =IF(R7="","",(R7-Q7)/45*60) | U7: =IF(T7="","",LOOKUP(T7,'ÜL-Daten-Erfassung'!$H$3:$H$23,'ÜL-Daten-Erfassung'!$I$3:$I$23)) | W7: =Quartal_1!W7 -> 46023 | Y7: =LOOKUP(W7,'ÜL-Daten-Erfassung'!H26:H30,'ÜL-Daten-Erfassung'!M26:M30) -> 47203 | Z7: =LOOKUP(W7,'ÜL-Daten-Erfassung'!H26:H30,'ÜL-Daten-Erfassung'!N26:N30) -> 47214
A8: =WEEKDAY(B8) -> 6 | B8: =B7+1 -> 46115 | E8: =IF(D8="","",(D8-C8)/45*60) | G8: =IF(F8="","",LOOKUP(F8,'ÜL-Daten-Erfassung'!$H$3:$H$23,'ÜL-Daten-Erfassung'!$I$3:$I$23)) | H8: =WEEKDAY(I8) -> 1 | I8: =I7+1 -> 46145 | L8: =IF(K8="","",(K8-J8)/45*60) | N8: =IF(M8="","",LOOKUP(M8,'ÜL-Daten-Erfassung'!$H$3:$H$23,'ÜL-Daten-Erfassung'!$I$3:$I$23)) | O8: =WEEKDAY(P8) -> 4 | P8: =P7+1 -> 46176 | S8: =IF(R8="","",(R8-Q8)/45*60) | U8: =IF(T8="","",LOOKUP(T8,'ÜL-Daten-Erfassung'!$H$3:$H$23,'ÜL-Daten-Erfassung'!$I$3:$I$23)) | Y8: Pfingsten
A9: =WEEKDAY(B9) -> 7 | B9: =B8+1 -> 46116 | E9: =IF(D9="","",(D9-C9)/45*60) | G9: =IF(F9="","",LOOKUP(F9,'ÜL-Daten-Erfassung'!$H$3:$H$23,'ÜL-Daten-Erfassung'!$I$3:$I$23)) | H9: =WEEKDAY(I9) -> 2 | I9: =I8+1 -> 46146 | L9: =IF(K9="","",(K9-J9)/45*60) | N9: =IF(M9="","",LOOKUP(M9,'ÜL-Daten-Erfassung'!$H$3:$H$23,'ÜL-Daten-Erfassung'!$I$3:$I$23)) | O9: =WEEKDAY(P9) -> 5 | P9: =P8+1 -> 46177 | S9: =IF(R9="","",(R9-Q9)/45*60) | U9: =IF(T9="","",LOOKUP(T9,'ÜL-Daten-Erfassung'!$H$3:$H$23,'ÜL-Daten-Erfassung'!$I$3:$I$23)) | Y9: =LOOKUP(W7,'ÜL-Daten-Erfassung'!H26:H30,'ÜL-Daten-Erfassung'!O26:O30) -> 47260 | Z9: =LOOKUP(W7,'ÜL-Daten-Erfassung'!H26:H30,'ÜL-Daten-Erfassung'!P26:P30) -> 47270
A10: =WEEKDAY(B10) -> 1 | B10: =B9+1 -> 46117 | E10: =IF(D10="","",(D10-C10)/45*60) | G10: =IF(F10="","",LOOKUP(F10,'ÜL-Daten-Erfassung'!$H$3:$H$23,'ÜL-Daten-Erfassung'!$I$3:$I$23)) | H10: =WEEKDAY(I10) -> 3 | I10: =I9+1 -> 46147 | L10: =IF(K10="","",(K10-J10)/45*60) | N10: =IF(M10="","",LOOKUP(M10,'ÜL-Daten-Erfassung'!$H$3:$H$23,'ÜL-Daten-Erfassung'!$I$3:$I$23)) | O10: =WEEKDAY(P10) -> 6 | P10: =P9+1 -> 46178 | S10: =IF(R10="","",(R10-Q10)/45*60) | U10: =IF(T10="","",LOOKUP(T10,'ÜL-Daten-Erfassung'!$H$3:$H$23,'ÜL-Daten-Erfassung'!$I$3:$I$23))
A11: =WEEKDAY(B11) -> 2 | B11: =B10+1 -> 46118 | E11: =IF(D11="","",(D11-C11)/45*60) | G11: =IF(F11="","",LOOKUP(F11,'ÜL-Daten-Erfassung'!$H$3:$H$23,'ÜL-Daten-Erfassung'!$I$3:$I$23)) | H11: =WEEKDAY(I11) -> 4 | I11: =I10+1 -> 46148 | L11: =IF(K11="","",(K11-J11)/45*60) | N11: =IF(M11="","",LOOKUP(M11,'ÜL-Daten-Erfassung'!$H$3:$H$23,'ÜL-Daten-Erfassung'!$I$3:$I$23)) | O11: =WEEKDAY(P11) -> 7 | P11: =P10+1 -> 46179 | S11: =IF(R11="","",(R11-Q11)/45*60) | U11: =IF(T11="","",LOOKUP(T11,'ÜL-Daten-Erfassung'!$H$3:$H$23,'ÜL-Daten-Erfassung'!$I$3:$I$23))
A12: =WEEKDAY(B12) -> 3 | B12: =B11+1 -> 46119 | E12: =IF(D12="","",(D12-C12)/45*60) | G12: =IF(F12="","",LOOKUP(F12,'ÜL-Daten-Erfassung'!$H$3:$H$23,'ÜL-Daten-Erfassung'!$I$3:$I$23)) | H12: =WEEKDAY(I12) -> 5 | I12: =I11+1 -> 46149 | L12: =IF(K12="","",(K12-J12)/45*60) | N12: =IF(M12="","",LOOKUP(M12,'ÜL-Daten-Erfassung'!$H$3:$H$23,'ÜL-Daten-Erfassung'!$I$3:$I$23)) | O12: =WEEKDAY(P12) -> 1 | P12: =P11+1 -> 46180 | S12: =IF(R12="","",(R12-Q12)/45*60) | U12: =IF(T12="","",LOOKUP(T12,'ÜL-Daten-Erfassung'!$H$3:$H$23,'ÜL-Daten-Erfassung'!$I$3:$I$23))
A13: =WEEKDAY(B13) -> 4 | B13: =B12+1 -> 46120 | E13: =IF(D13="","",(D13-C13)/45*60) | G13: =IF(F13="","",LOOKUP(F13,'ÜL-Daten-Erfassung'!$H$3:$H$23,'ÜL-Daten-Erfassung'!$I$3:$I$23)) | H13: =WEEKDAY(I13) -> 6 | I13: =I12+1 -> 46150 | L13: =IF(K13="","",(K13-J13)/45*60) | N13: =IF(M13="","",LOOKUP(M13,'ÜL-Daten-Erfassung'!$H$3:$H$23,'ÜL-Daten-Erfassung'!$I$3:$I$23)) | O13: =WEEKDAY(P13) -> 2 | P13: =P12+1 -> 46181 | S13: =IF(R13="","",(R13-Q13)/45*60) | U13: =IF(T13="","",LOOKUP(T13,'ÜL-Daten-Erfassung'!$H$3:$H$23,'ÜL-Daten-Erfassung'!$I$3:$I$23))
A14: =WEEKDAY(B14) -> 5 | B14: =B13+1 -> 46121 | E14: =IF(D14="","",(D14-C14)/45*60) | G14: =IF(F14="","",LOOKUP(F14,'ÜL-Daten-Erfassung'!$H$3:$H$23,'ÜL-Daten-Erfassung'!$I$3:$I$23)) | H14: =WEEKDAY(I14) -> 7 | I14: =I13+1 -> 46151 | L14: =IF(K14="","",(K14-J14)/45*60) | N14: =IF(M14="","",LOOKUP(M14,'ÜL-Daten-Erfassung'!$H$3:$H$23,'ÜL-Daten-Erfassung'!$I$3:$I$23)) | O14: =WEEKDAY(P14) -> 3 | P14: =P13+1 -> 46182 | S14: =IF(R14="","",(R14-Q14)/45*60) | U14: =IF(T14="","",LOOKUP(T14,'ÜL-Daten-Erfassung'!$H$3:$H$23,'ÜL-Daten-Erfassung'!$I$3:$I$23))
A15: =WEEKDAY(B15) -> 6 | B15: =B14+1 -> 46122 | E15: =IF(D15="","",(D15-C15)/45*60) | G15: =IF(F15="","",LOOKUP(F15,'ÜL-Daten-Erfassung'!$H$3:$H$23,'ÜL-Daten-Erfassung'!$I$3:$I$23)) | H15: =WEEKDAY(I15) -> 1 | I15: =I14+1 -> 46152 | L15: =IF(K15="","",(K15-J15)/45*60) | N15: =IF(M15="","",LOOKUP(M15,'ÜL-Daten-Erfassung'!$H$3:$H$23,'ÜL-Daten-Erfassung'!$I$3:$I$23)) | O15: =WEEKDAY(P15) -> 4 | P15: =P14+1 -> 46183 | S15: =IF(R15="","",(R15-Q15)/45*60) | U15: =IF(T15="","",LOOKUP(T15,'ÜL-Daten-Erfassung'!$H$3:$H$23,'ÜL-Daten-Erfassung'!$I$3:$I$23))
A16: =WEEKDAY(B16) -> 7 | B16: =B15+1 -> 46123 | E16: =IF(D16="","",(D16-C16)/45*60) | G16: =IF(F16="","",LOOKUP(F16,'ÜL-Daten-Erfassung'!$H$3:$H$23,'ÜL-Daten-Erfassung'!$I$3:$I$23)) | H16: =WEEKDAY(I16) -> 2 | I16: =I15+1 -> 46153 | L16: =IF(K16="","",(K16-J16)/45*60) | N16: =IF(M16="","",LOOKUP(M16,'ÜL-Daten-Erfassung'!$H$3:$H$23,'ÜL-Daten-Erfassung'!$I$3:$I$23)) | O16: =WEEKDAY(P16) -> 5 | P16: =P15+1 -> 46184 | S16: =IF(R16="","",(R16-Q16)/45*60) | U16: =IF(T16="","",LOOKUP(T16,'ÜL-Daten-Erfassung'!$H$3:$H$23,'ÜL-Daten-Erfassung'!$I$3:$I$23))
A17: =WEEKDAY(B17) -> 1 | B17: =B16+1 -> 46124 | E17: =IF(D17="","",(D17-C17)/45*60) | G17: =IF(F17="","",LOOKUP(F17,'ÜL-Daten-Erfassung'!$H$3:$H$23,'ÜL-Daten-Erfassung'!$I$3:$I$23)) | H17: =WEEKDAY(I17) -> 3 | I17: =I16+1 -> 46154 | L17: =IF(K17="","",(K17-J17)/45*60) | N17: =IF(M17="","",LOOKUP(M17,'ÜL-Daten-Erfassung'!$H$3:$H$23,'ÜL-Daten-Erfassung'!$I$3:$I$23)) | O17: =WEEKDAY(P17) -> 6 | P17: =P16+1 -> 46185 | S17: =IF(R17="","",(R17-Q17)/45*60) | U17: =IF(T17="","",LOOKUP(T17,'ÜL-Daten-Erfassung'!$H$3:$H$23,'ÜL-Daten-Erfassung'!$I$3:$I$23))
A18: =WEEKDAY(B18) -> 2 | B18: =B17+1 -> 46125 | E18: =IF(D18="","",(D18-C18)/45*60) | G18: =IF(F18="","",LOOKUP(F18,'ÜL-Daten-Erfassung'!$H$3:$H$23,'ÜL-Daten-Erfassung'!$I$3:$I$23)) | H18: =WEEKDAY(I18) -> 4 | I18: =I17+1 -> 46155 | L18: =IF(K18="","",(K18-J18)/45*60) | N18: =IF(M18="","",LOOKUP(M18,'ÜL-Daten-Erfassung'!$H$3:$H$23,'ÜL-Daten-Erfassung'!$I$3:$I$23)) | O18: =WEEKDAY(P18) -> 7 | P18: =P17+1 -> 46186 | S18: =IF(R18="","",(R18-Q18)/45*60) | U18: =IF(T18="","",LOOKUP(T18,'ÜL-Daten-Erfassung'!$H$3:$H$23,'ÜL-Daten-Erfassung'!$I$3:$I$23))
A19: =WEEKDAY(B19) -> 3 | B19: =B18+1 -> 46126 | E19: =IF(D19="","",(D19-C19)/45*60) | G19: =IF(F19="","",LOOKUP(F19,'ÜL-Daten-Erfassung'!$H$3:$H$23,'ÜL-Daten-Erfassung'!$I$3:$I$23)) | H19: =WEEKDAY(I19) -> 5 | I19: =I18+1 -> 46156 | L19: =IF(K19="","",(K19-J19)/45*60) | N19: =IF(M19="","",LOOKUP(M19,'ÜL-Daten-Erfassung'!$H$3:$H$23,'ÜL-Daten-Erfassung'!$I$3:$I$23)) | O19: =WEEKDAY(P19) -> 1 | P19: =P18+1 -> 46187 | S19: =IF(R19="","",(R19-Q19)/45*60) | U19: =IF(T19="","",LOOKUP(T19,'ÜL-Daten-Erfassung'!$H$3:$H$23,'ÜL-Daten-Erfassung'!$I$3:$I$23))
A20: =WEEKDAY(B20) -> 4 | B20: =B19+1 -> 46127 | E20: =IF(D20="","",(D20-C20)/45*60) | G20: =IF(F20="","",LOOKUP(F20,'ÜL-Daten-Erfassung'!$H$3:$H$23,'ÜL-Daten-Erfassung'!$I$3:$I$23)) | H20: =WEEKDAY(I20) -> 6 | I20: =I19+1 -> 46157 | L20: =IF(K20="","",(K20-J20)/45*60) | N20: =IF(M20="","",LOOKUP(M20,'ÜL-Daten-Erfassung'!$H$3:$H$23,'ÜL-Daten-Erfassung'!$I$3:$I$23)) | O20: =WEEKDAY(P20) -> 2 | P20: =P19+1 -> 46188 | S20: =IF(R20="","",(R20-Q20)/45*60) | U20: =IF(T20="","",LOOKUP(T20,'ÜL-Daten-Erfassung'!$H$3:$H$23,'ÜL-Daten-Erfassung'!$I$3:$I$23))
A21: =WEEKDAY(B21) -> 5 | B21: =B20+1 -> 46128 | E21: =IF(D21="","",(D21-C21)/45*60) | G21: =IF(F21="","",LOOKUP(F21,'ÜL-Daten-Erfassung'!$H$3:$H$23,'ÜL-Daten-Erfassung'!$I$3:$I$23)) | H21: =WEEKDAY(I21) -> 7 | I21: =I20+1 -> 46158 | L21: =IF(K21="","",(K21-J21)/45*60) | N21: =IF(M21="","",LOOKUP(M21,'ÜL-Daten-Erfassung'!$H$3:$H$23,'ÜL-Daten-Erfassung'!$I$3:$I$23)) | O21: =WEEKDAY(P21) -> 3 | P21: =P20+1 -> 46189 | S21: =IF(R21="","",(R21-Q21)/45*60) | U21: =IF(T21="","",LOOKUP(T21,'ÜL-Daten-Erfassung'!$H$3:$H$23,'ÜL-Daten-Erfassung'!$I$3:$I$23))
... A33: =WEEKDAY(B33) -> 3 | B33: =B32+1 -> 46140 | E33: =IF(D33="","",(D33-C33)/45*60) | G33: =IF(F33="","",LOOKUP(F33,'ÜL-Daten-Erfassung'!$H$3:$H$23,'ÜL-Daten-Erfassung'!$I$3:$I$23)) | H33: =WEEKDAY(I33) -> 5 | I33: =I32+1 -> 46170 | L33: =IF(K33="","",(K33-J33)/45*60) | N33: =IF(M33="","",LOOKUP(M33,'ÜL-Daten-Erfassung'!$H$3:$H$23,'ÜL-Daten-Erfassung'!$I$3:$I$23)) | O33: =WEEKDAY(P33) -> 1 | P33: =P32+1 -> 46201 | S33: =IF(R33="","",(R33-Q33)/45*60) | U33: =IF(T33="","",LOOKUP(T33,'ÜL-Daten-Erfassung'!$H$3:$H$23,'ÜL-Daten-Erfassung'!$I$3:$I$23))
A34: =WEEKDAY(B34) -> 4 | B34: =B33+1 -> 46141 | E34: =IF(D34="","",(D34-C34)/45*60) | G34: =IF(F34="","",LOOKUP(F34,'ÜL-Daten-Erfassung'!$H$3:$H$23,'ÜL-Daten-Erfassung'!$I$3:$I$23)) | H34: =IF(I34<>"",WEEKDAY(I34),"") -> 6 | I34: =I33+1 -> 46171 | L34: =IF(K34="","",(K34-J34)/45*60) | N34: =IF(M34="","",LOOKUP(M34,'ÜL-Daten-Erfassung'!$H$3:$H$23,'ÜL-Daten-Erfassung'!$I$3:$I$23)) | O34: =IF(P34<>"",WEEKDAY(P34),"") -> 2 | P34: =P33+1 -> 46202 | S34: =IF(R34="","",(R34-Q34)/45*60) | U34: =IF(T34="","",LOOKUP(T34,'ÜL-Daten-Erfassung'!$H$3:$H$23,'ÜL-Daten-Erfassung'!$I$3:$I$23))
A35: =WEEKDAY(B35) -> 5 | B35: =B34+1 -> 46142 | E35: =IF(D35="","",(D35-C35)/45*60) | G35: =IF(F35="","",LOOKUP(F35,'ÜL-Daten-Erfassung'!$H$3:$H$23,'ÜL-Daten-Erfassung'!$I$3:$I$23)) | H35: =IF(I35<>"",WEEKDAY(I35),"") -> 7 | I35: =I34+1 -> 46172 | L35: =IF(K35="","",(K35-J35)/45*60) | N35: =IF(M35="","",LOOKUP(M35,'ÜL-Daten-Erfassung'!$H$3:$H$23,'ÜL-Daten-Erfassung'!$I$3:$I$23)) | O35: =WEEKDAY(P35) -> 3 | P35: =P34+1 -> 46203 | S35: =IF(R35="","",(R35-Q35)/45*60) | U35: =IF(T35="","",LOOKUP(T35,'ÜL-Daten-Erfassung'!$H$3:$H$23,'ÜL-Daten-Erfassung'!$I$3:$I$23))
E36: =IF(D36="","",(D36-C36)/45*60) | G36: =IF(F36="","",LOOKUP(F36,'ÜL-Daten-Erfassung'!$H$3:$H$23,'ÜL-Daten-Erfassung'!$I$3:$I$23)) | H36: =IF(I36<>"",WEEKDAY(I36),"") -> 1 | I36: =I35+1 -> 46173 | L36: =IF(K36="","",(K36-J36)/45*60) | N36: =IF(M36="","",LOOKUP(M36,'ÜL-Daten-Erfassung'!$H$3:$H$23,'ÜL-Daten-Erfassung'!$I$3:$I$23)) | S36: =IF(R36="","",(R36-Q36)/45*60) | U36: =IF(T36="","",LOOKUP(T36,'ÜL-Daten-Erfassung'!$H$3:$H$23,'ÜL-Daten-Erfassung'!$I$3:$I$23))
A37: Gesamt | D37: =SUM(E6:E36) -> 0 | H37: Gesamt | K37: =SUM(L6:L36) -> 0 | M37: Stand 01.2017/©swegmann | O37: Gesamt | R37: =SUM(S6:S36) -> 0 | T37: Apr-Jun | U37: =SUM(D37+K37+R37) -> 0
A39: Hinweis: | D39: Eine bezuschussungsfähige Übungsstunden beträgt 45 Minuten. Es können nur volle Übungsstunden (also 45 Minuten) in Ansatz gebracht werden. Ganze Stunden (60 Minuten) sind entsprechend auf 45 Minuten zu kürzen, auch wenn sie deshalb von der zugeteilten Übungszeit abweichen.
D41: Übungszeit z.B. von 17:00 - 18:00 ist abgerundet von 17:00 bis 17:45 Uhr (ist 1 Stunde) zu erfassen- 90 Minuten werden als 2 Stunden ausgewiesen!
D42: Beachte hierzu Hinweise: Übungszeiten!!
D43: =IF(T2>0,"",T2) -> 0 | F43: <== Wenn Fehlermeldung #WERT! angezeigt wird: PRÜFE Stundeneingabe (Fehler ##### in Spalte Std.)
F44: Stundenspalte <von - bis> EINGABE muss immer mit DOPPELPUNKT (z.B. 18:00) erfolgen!!

Sheet Quartal_3
A1: Verein | D1: ='ÜL-Daten-Erfassung'!D3 -> 0
A2: Übungsleiter: | D2: ='ÜL-Daten-Erfassung'!E9&", "&'ÜL-Daten-Erfassung'!E10 -> , | N2: Stunden/Summe Quartal 1 bis 3: | T2: =SUM(Quartal_2!T2+U37) -> 0
A3: Übungsleiterabrechnung | F3: 3. Quartal | H3: vom | J3: =Quartal_2!P35+1 -> 46204 | N3: bis | O3: =P35 -> 46295 | U3: =Quartal_1!U2 -> 0
A4: Juli | C4: Übungszeiten | F4: Sportstätte (Schlüssel-Nr. nur erforderlich, wenn v.o. abweichend!) | H4: August | J4: Übungszeiten | M4: Sportstätte (Schlüssel-Nr. nur erforderlich, wenn v.o. abweichend!) | O4: September | Q4: Übungszeiten | T4: Sportstätte (Schlüssel-Nr. nur erforderlich, wenn v.o. abweichend!)
C5: von | D5: bis | E5: Std. | H5: Februar | J5: von | K5: bis | L5: Std. | O5: März | Q5: von | R5: bis | S5: Std. | W5: Ferienkalender
A6: =WEEKDAY(B6) -> 4 | B6: =Quartal_2!P35+1 -> 46204 | E6: =IF(D6="","",(D6-C6)/45*60) | G6: =IF(F6="","",LOOKUP(F6,'ÜL-Daten-Erfassung'!$H$3:$H$23,'ÜL-Daten-Erfassung'!$I$3:$I$23)) | H6: =WEEKDAY(I6) -> 7 | I6: =B36+1 -> 46235 | L6: =IF(K6="","",(K6-J6)/45*60) | N6: =IF(M6="","",LOOKUP(M6,'ÜL-Daten-Erfassung'!$H$3:$H$23,'ÜL-Daten-Erfassung'!$I$3:$I$23)) | O6: =WEEKDAY(P6) -> 3 | P6: =I36+1 -> 46266 | S6: =IF(R6="","",(R6-Q6)/45*60) | U6: =IF(T6="","",LOOKUP(T6,'ÜL-Daten-Erfassung'!$H$3:$H$23,'ÜL-Daten-Erfassung'!$I$3:$I$23)) | W6: Jahr | X6: ='ÜL-Daten-Erfassung'!Q25 -> Sommer
A7: =WEEKDAY(B7) -> 5 | B7: =IF(B6<>"",B6+1,"") -> 46205 | E7: =IF(D7="","",(D7-C7)/45*60) | G7: =IF(F7="","",LOOKUP(F7,'ÜL-Daten-Erfassung'!$H$3:$H$23,'ÜL-Daten-Erfassung'!$I$3:$I$23)) | H7: =WEEKDAY(I7) -> 1 | I7: =I6+1 -> 46236 | L7: =IF(K7="","",(K7-J7)/45*60) | N7: =IF(M7="","",LOOKUP(M7,'ÜL-Daten-Erfassung'!$H$3:$H$23,'ÜL-Daten-Erfassung'!$I$3:$I$23)) | O7: =WEEKDAY(P7) -> 4 | P7: =P6+1 -> 46267 | S7: =IF(R7="","",(R7-Q7)/45*60) | U7: =IF(T7="","",LOOKUP(T7,'ÜL-Daten-Erfassung'!$H$3:$H$23,'ÜL-Daten-Erfassung'!$I$3:$I$23)) | W7: =Quartal_1!W7 -> 46023 | X7: =LOOKUP(W7,'ÜL-Daten-Erfassung'!H26:H30,'ÜL-Daten-Erfassung'!Q26:Q30) -> 47329 | Y7: =LOOKUP(W7,'ÜL-Daten-Erfassung'!H26:H30,'ÜL-Daten-Erfassung'!R26:R30) -> 47371
A8: =WEEKDAY(B8) -> 6 | B8: =B7+1 -> 46206 | E8: =IF(D8="","",(D8-C8)/45*60) | G8: =IF(F8="","",LOOKUP(F8,'ÜL-Daten-Erfassung'!$H$3:$H$23,'ÜL-Daten-Erfassung'!$I$3:$I$23)) | H8: =WEEKDAY(I8) -> 2 | I8: =I7+1 -> 46237 | L8: =IF(K8="","",(K8-J8)/45*60) | N8: =IF(M8="","",LOOKUP(M8,'ÜL-Daten-Erfassung'!$H$3:$H$23,'ÜL-Daten-Erfassung'!$I$3:$I$23)) | O8: =WEEKDAY(P8) -> 5 | P8: =P7+1 -> 46268 | S8: =IF(R8="","",(R8-Q8)/45*60) | U8: =IF(T8="","",LOOKUP(T8,'ÜL-Daten-Erfassung'!$H$3:$H$23,'ÜL-Daten-Erfassung'!$I$3:$I$23))
A9: =WEEKDAY(B9) -> 7 | B9: =B8+1 -> 46207 | E9: =IF(D9="","",(D9-C9)/45*60) | G9: =IF(F9="","",LOOKUP(F9,'ÜL-Daten-Erfassung'!$H$3:$H$23,'ÜL-Daten-Erfassung'!$I$3:$I$23)) | H9: =WEEKDAY(I9) -> 3 | I9: =I8+1 -> 46238 | L9: =IF(K9="","",(K9-J9)/45*60) | N9: =IF(M9="","",LOOKUP(M9,'ÜL-Daten-Erfassung'!$H$3:$H$23,'ÜL-Daten-Erfassung'!$I$3:$I$23)) | O9: =WEEKDAY(P9) -> 6 | P9: =P8+1 -> 46269 | S9: =IF(R9="","",(R9-Q9)/45*60) | U9: =IF(T9="","",LOOKUP(T9,'ÜL-Daten-Erfassung'!$H$3:$H$23,'ÜL-Daten-Erfassung'!$I$3:$I$23))
A10: =WEEKDAY(B10) -> 1 | B10: =B9+1 -> 46208 | E10: =IF(D10="","",(D10-C10)/45*60) | G10: =IF(F10="","",LOOKUP(F10,'ÜL-Daten-Erfassung'!$H$3:$H$23,'ÜL-Daten-Erfassung'!$I$3:$I$23)) | H10: =WEEKDAY(I10) -> 4 | I10: =I9+1 -> 46239 | L10: =IF(K10="","",(K10-J10)/45*60) | N10: =IF(M10="","",LOOKUP(M10,'ÜL-Daten-Erfassung'!$H$3:$H$23,'ÜL-Daten-Erfassung'!$I$3:$I$23)) | O10: =WEEKDAY(P10) -> 7 | P10: =P9+1 -> 46270 | S10: =IF(R10="","",(R10-Q10)/45*60) | U10: =IF(T10="","",LOOKUP(T10,'ÜL-Daten-Erfassung'!$H$3:$H$23,'ÜL-Daten-Erfassung'!$I$3:$I$23))
A11: =WEEKDAY(B11) -> 2 | B11: =B10+1 -> 46209 | E11: =IF(D11="","",(D11-C11)/45*60) | G11: =IF(F11="","",LOOKUP(F11,'ÜL-Daten-Erfassung'!$H$3:$H$23,'ÜL-Daten-Erfassung'!$I$3:$I$23)) | H11: =WEEKDAY(I11) -> 5 | I11: =I10+1 -> 46240 | L11: =IF(K11="","",(K11-J11)/45*60) | N11: =IF(M11="","",LOOKUP(M11,'ÜL-Daten-Erfassung'!$H$3:$H$23,'ÜL-Daten-Erfassung'!$I$3:$I$23)) | O11: =WEEKDAY(P11) -> 1 | P11: =P10+1 -> 46271 | S11: =IF(R11="","",(R11-Q11)/45*60) | U11: =IF(T11="","",LOOKUP(T11,'ÜL-Daten-Erfassung'!$H$3:$H$23,'ÜL-Daten-Erfassung'!$I$3:$I$23))
A12: =WEEKDAY(B12) -> 3 | B12: =B11+1 -> 46210 | E12: =IF(D12="","",(D12-C12)/45*60) | G12: =IF(F12="","",LOOKUP(F12,'ÜL-Daten-Erfassung'!$H$3:$H$23,'ÜL-Daten-Erfassung'!$I$3:$I$23)) | H12: =WEEKDAY(I12) -> 6 | I12: =I11+1 -> 46241 | L12: =IF(K12="","",(K12-J12)/45*60) | N12: =IF(M12="","",LOOKUP(M12,'ÜL-Daten-Erfassung'!$H$3:$H$23,'ÜL-Daten-Erfassung'!$I$3:$I$23)) | O12: =WEEKDAY(P12) -> 2 | P12: =P11+1 -> 46272 | S12: =IF(R12="","",(R12-Q12)/45*60) | U12: =IF(T12="","",LOOKUP(T12,'ÜL-Daten-Erfassung'!$H$3:$H$23,'ÜL-Daten-Erfassung'!$I$3:$I$23))
A13: =WEEKDAY(B13) -> 4 | B13: =B12+1 -> 46211 | E13: =IF(D13="","",(D13-C13)/45*60) | G13: =IF(F13="","",LOOKUP(F13,'ÜL-Daten-Erfassung'!$H$3:$H$23,'ÜL-Daten-Erfassung'!$I$3:$I$23)) | H13: =WEEKDAY(I13) -> 7 | I13: =I12+1 -> 46242 | L13: =IF(K13="","",(K13-J13)/45*60) | N13: =IF(M13="","",LOOKUP(M13,'ÜL-Daten-Erfassung'!$H$3:$H$23,'ÜL-Daten-Erfassung'!$I$3:$I$23)) | O13: =WEEKDAY(P13) -> 3 | P13: =P12+1 -> 46273 | S13: =IF(R13="","",(R13-Q13)/45*60) | U13: =IF(T13="","",LOOKUP(T13,'ÜL-Daten-Erfassung'!$H$3:$H$23,'ÜL-Daten-Erfassung'!$I$3:$I$23))
A14: =WEEKDAY(B14) -> 5 | B14: =B13+1 -> 46212 | E14: =IF(D14="","",(D14-C14)/45*60) | G14: =IF(F14="","",LOOKUP(F14,'ÜL-Daten-Erfassung'!$H$3:$H$23,'ÜL-Daten-Erfassung'!$I$3:$I$23)) | H14: =WEEKDAY(I14) -> 1 | I14: =I13+1 -> 46243 | L14: =IF(K14="","",(K14-J14)/45*60) | N14: =IF(M14="","",LOOKUP(M14,'ÜL-Daten-Erfassung'!$H$3:$H$23,'ÜL-Daten-Erfassung'!$I$3:$I$23)) | O14: =WEEKDAY(P14) -> 4 | P14: =P13+1 -> 46274 | S14: =IF(R14="","",(R14-Q14)/45*60) | U14: =IF(T14="","",LOOKUP(T14,'ÜL-Daten-Erfassung'!$H$3:$H$23,'ÜL-Daten-Erfassung'!$I$3:$I$23))
A15: =WEEKDAY(B15) -> 6 | B15: =B14+1 -> 46213 | E15: =IF(D15="","",(D15-C15)/45*60) | G15: =IF(F15="","",LOOKUP(F15,'ÜL-Daten-Erfassung'!$H$3:$H$23,'ÜL-Daten-Erfassung'!$I$3:$I$23)) | H15: =WEEKDAY(I15) -> 2 | I15: =I14+1 -> 46244 | L15: =IF(K15="","",(K15-J15)/45*60) | N15: =IF(M15="","",LOOKUP(M15,'ÜL-Daten-Erfassung'!$H$3:$H$23,'ÜL-Daten-Erfassung'!$I$3:$I$23)) | O15: =WEEKDAY(P15) -> 5 | P15: =P14+1 -> 46275 | S15: =IF(R15="","",(R15-Q15)/45*60) | U15: =IF(T15="","",LOOKUP(T15,'ÜL-Daten-Erfassung'!$H$3:$H$23,'ÜL-Daten-Erfassung'!$I$3:$I$23))
A16: =WEEKDAY(B16) -> 7 | B16: =B15+1 -> 46214 | E16: =IF(D16="","",(D16-C16)/45*60) | G16: =IF(F16="","",LOOKUP(F16,'ÜL-Daten-Erfassung'!$H$3:$H$23,'ÜL-Daten-Erfassung'!$I$3:$I$23)) | H16: =WEEKDAY(I16) -> 3 | I16: =I15+1 -> 46245 | L16: =IF(K16="","",(K16-J16)/45*60) | N16: =IF(M16="","",LOOKUP(M16,'ÜL-Daten-Erfassung'!$H$3:$H$23,'ÜL-Daten-Erfassung'!$I$3:$I$23)) | O16: =WEEKDAY(P16) -> 6 | P16: =P15+1 -> 46276 | S16: =IF(R16="","",(R16-Q16)/45*60) | U16: =IF(T16="","",LOOKUP(T16,'ÜL-Daten-Erfassung'!$H$3:$H$23,'ÜL-Daten-Erfassung'!$I$3:$I$23))
A17: =WEEKDAY(B17) -> 1 | B17: =B16+1 -> 46215 | E17: =IF(D17="","",(D17-C17)/45*60) | G17: =IF(F17="","",LOOKUP(F17,'ÜL-Daten-Erfassung'!$H$3:$H$23,'ÜL-Daten-Erfassung'!$I$3:$I$23)) | H17: =WEEKDAY(I17) -> 4 | I17: =I16+1 -> 46246 | L17: =IF(K17="","",(K17-J17)/45*60) | N17: =IF(M17="","",LOOKUP(M17,'ÜL-Daten-Erfassung'!$H$3:$H$23,'ÜL-Daten-Erfassung'!$I$3:$I$23)) | O17: =WEEKDAY(P17) -> 7 | P17: =P16+1 -> 46277 | S17: =IF(R17="","",(R17-Q17)/45*60) | U17: =IF(T17="","",LOOKUP(T17,'ÜL-Daten-Erfassung'!$H$3:$H$23,'ÜL-Daten-Erfassung'!$I$3:$I$23))
A18: =WEEKDAY(B18) -> 2 | B18: =B17+1 -> 46216 | E18: =IF(D18="","",(D18-C18)/45*60) | G18: =IF(F18="","",LOOKUP(F18,'ÜL-Daten-Erfassung'!$H$3:$H$23,'ÜL-Daten-Erfassung'!$I$3:$I$23)) | H18: =WEEKDAY(I18) -> 5 | I18: =I17+1 -> 46247 | L18: =IF(K18="","",(K18-J18)/45*60) | N18: =IF(M18="","",LOOKUP(M18,'ÜL-Daten-Erfassung'!$H$3:$H$23,'ÜL-Daten-Erfassung'!$I$3:$I$23)) | O18: =WEEKDAY(P18) -> 1 | P18: =P17+1 -> 46278 | S18: =IF(R18="","",(R18-Q18)/45*60) | U18: =IF(T18="","",LOOKUP(T18,'ÜL-Daten-Erfassung'!$H$3:$H$23,'ÜL-Daten-Erfassung'!$I$3:$I$23))
A19: =WEEKDAY(B19) -> 3 | B19: =B18+1 -> 46217 | E19: =IF(D19="","",(D19-C19)/45*60) | G19: =IF(F19="","",LOOKUP(F19,'ÜL-Daten-Erfassung'!$H$3:$H$23,'ÜL-Daten-Erfassung'!$I$3:$I$23)) | H19: =WEEKDAY(I19) -> 6 | I19: =I18+1 -> 46248 | L19: =IF(K19="","",(K19-J19)/45*60) | N19: =IF(M19="","",LOOKUP(M19,'ÜL-Daten-Erfassung'!$H$3:$H$23,'ÜL-Daten-Erfassung'!$I$3:$I$23)) | O19: =WEEKDAY(P19) -> 2 | P19: =P18+1 -> 46279 | S19: =IF(R19="","",(R19-Q19)/45*60) | U19: =IF(T19="","",LOOKUP(T19,'ÜL-Daten-Erfassung'!$H$3:$H$23,'ÜL-Daten-Erfassung'!$I$3:$I$23))
... A33: =WEEKDAY(B33) -> 3 | B33: =B32+1 -> 46231 | E33: =IF(D33="","",(D33-C33)/45*60) | G33: =IF(F33="","",LOOKUP(F33,'ÜL-Daten-Erfassung'!$H$3:$H$23,'ÜL-Daten-Erfassung'!$I$3:$I$23)) | H33: =WEEKDAY(I33) -> 6 | I33: =I32+1 -> 46262 | L33: =IF(K33="","",(K33-J33)/45*60) | N33: =IF(M33="","",LOOKUP(M33,'ÜL-Daten-Erfassung'!$H$3:$H$23,'ÜL-Daten-Erfassung'!$I$3:$I$23)) | O33: =WEEKDAY(P33) -> 2 | P33: =P32+1 -> 46293 | S33: =IF(R33="","",(R33-Q33)/45*60) | U33: =IF(T33="","",LOOKUP(T33,'ÜL-Daten-Erfassung'!$H$3:$H$23,'ÜL-Daten-Erfassung'!$I$3:$I$23))
A34: =WEEKDAY(B34) -> 4 | B34: =B33+1 -> 46232 | E34: =IF(D34="","",(D34-C34)/45*60) | G34: =IF(F34="","",LOOKUP(F34,'ÜL-Daten-Erfassung'!$H$3:$H$23,'ÜL-Daten-Erfassung'!$I$3:$I$23)) | H34: =WEEKDAY(I34) -> 7 | I34: =I33+1 -> 46263 | L34: =IF(K34="","",(K34-J34)/45*60) | N34: =IF(M34="","",LOOKUP(M34,'ÜL-Daten-Erfassung'!$H$3:$H$23,'ÜL-Daten-Erfassung'!$I$3:$I$23)) | O34: =IF(P34<>"",WEEKDAY(P34),"") -> 3 | P34: =P33+1 -> 46294 | S34: =IF(R34="","",(R34-Q34)/45*60) | U34: =IF(T34="","",LOOKUP(T34,'ÜL-Daten-Erfassung'!$H$3:$H$23,'ÜL-Daten-Erfassung'!$I$3:$I$23))
A35: =WEEKDAY(B35) -> 5 | B35: =B34+1 -> 46233 | E35: =IF(D35="","",(D35-C35)/45*60) | G35: =IF(F35="","",LOOKUP(F35,'ÜL-Daten-Erfassung'!$H$3:$H$23,'ÜL-Daten-Erfassung'!$I$3:$I$23)) | H35: =WEEKDAY(I35) -> 1 | I35: =I34+1 -> 46264 | L35: =IF(K35="","",(K35-J35)/45*60) | N35: =IF(M35="","",LOOKUP(M35,'ÜL-Daten-Erfassung'!$H$3:$H$23,'ÜL-Daten-Erfassung'!$I$3:$I$23)) | O35: =WEEKDAY(P35) -> 4 | P35: =P34+1 -> 46295 | S35: =IF(R35="","",(R35-Q35)/45*60) | U35: =IF(T35="","",LOOKUP(T35,'ÜL-Daten-Erfassung'!$H$3:$H$23,'ÜL-Daten-Erfassung'!$I$3:$I$23))
A36: =WEEKDAY(B36) -> 6 | B36: =B35+1 -> 46234 | E36: =IF(D36="","",(D36-C36)/45*60) | G36: =IF(F36="","",LOOKUP(F36,'ÜL-Daten-Erfassung'!$H$3:$H$23,'ÜL-Daten-Erfassung'!$I$3:$I$23)) | H36: =WEEKDAY(I36) -> 2 | I36: =I35+1 -> 46265 | L36: =IF(K36="","",(K36-J36)/45*60) | N36: =IF(M36="","",LOOKUP(M36,'ÜL-Daten-Erfassung'!$H$3:$H$23,'ÜL-Daten-Erfassung'!$I$3:$I$23)) | S36: =IF(R36="","",(R36-Q36)/45*60) | U36: =IF(T36="","",LOOKUP(T36,'ÜL-Daten-Erfassung'!$H$3:$H$23,'ÜL-Daten-Erfassung'!$I$3:$I$23))
A37: Gesamt | D37: =SUM(E6:E36) -> 0 | H37: Gesamt | K37: =SUM(L6:L36) -> 0 | M37: Stand 01.2017/©swegmann | O37: Gesamt | R37: =SUM(S6:S36) -> 0 | T37: Jul Sep. | U37: =SUM(D37+K37+R37) -> 0
A39: Hinweis: | D39: Eine bezuschussungsfähige Übungsstunden beträgt 45 Minuten. Es können nur volle Übungsstunden (also 45 Minuten) in Ansatz gebracht werden. Ganze Stunden (60 Minuten) sind entsprechend auf 45 Minuten zu kürzen, auch wenn sie deshalb von der zugeteilten Übungszeit abweichen.
D41: Übungszeit z.B. von 17:00 - 18:00 ist abgerundet von 17:00 bis 17:45 Uhr (ist 1 Stunde) zu erfassen- 90 Minuten werden als 2 Stunden ausgewiesen!
D42: Beachte hierzu Hinweise: Übungszeiten!!
D43: =IF(T2>0,"",T2) -> 0 | F43: <== Wenn Fehlermeldung #WERT! angezeigt wird: PRÜFE Stundeneingabe (Fehler ##### in Spalte Std.)
F44: Stundenspalte <von - bis> EINGABE muss immer mit DOPPELPUNKT (z.B. 18:00) erfolgen!!

Sheet Quartal_4
A1: Verein | D1: ='ÜL-Daten-Erfassung'!D3 -> 0
A2: Übungsleiter: | D2: ='ÜL-Daten-Erfassung'!E9&", "&'ÜL-Daten-Erfassung'!E10 -> , | N2: Gesamtstunden Jahr: | T2: =SUM(Quartal_3!T2+U37) -> 0
A3: Übungsleiterabrechnung | F3: 4. Quartal | H3: vom | J3: =Quartal_3!P35+1 -> 46296 | N3: bis | O3: =P36 -> 46387 | U3: =Quartal_1!U2 -> 0
A4: Oktober | C4: Übungszeiten | F4: Sportstätte (Schlüssel-Nr. nur erforderlich, wenn v.o. abweichend!) | H4: November | J4: Übungszeiten | M4: Sportstätte (Schlüssel-Nr. nur erforderlich, wenn v.o. abweichend!) | O4: Dezember | Q4: Übungszeiten | T4: Sportstätte (Schlüssel-Nr. nur erforderlich, wenn v.o. abweichend!)
C5: von | D5: bis | E5: Std. | H5: Februar | J5: von | K5: bis | L5: Std. | O5: März | Q5: von | R5: bis | S5: Std. | W5: Ferienkalender
A6: =WEEKDAY(B6) -> 5 | B6: =Quartal_3!P35+1 -> 46296 | E6: =IF(D6="","",(D6-C6)/45*60) | G6: =IF(F6="","",LOOKUP(F6,'ÜL-Daten-Erfassung'!$H$3:$H$23,'ÜL-Daten-Erfassung'!$I$3:$I$23)) | H6: =WEEKDAY(I6) -> 1 | I6: =B36+1 -> 46327 | L6: =IF(K6="","",(K6-J6)/45*60) | N6: =IF(M6="","",LOOKUP(M6,'ÜL-Daten-Erfassung'!$H$3:$H$23,'ÜL-Daten-Erfassung'!$I$3:$I$23)) | O6: =WEEKDAY(P6) -> 3 | P6: =I35+1 -> 46357 | S6: =IF(R6="","",(R6-Q6)/45*60) | U6: =IF(T6="","",LOOKUP(T6,'ÜL-Daten-Erfassung'!$H$3:$H$23,'ÜL-Daten-Erfassung'!$I$3:$I$23)) | W6: Jahr | X6: Herbst
A7: =WEEKDAY(B7) -> 6 | B7: =IF(B6<>"",B6+1,"") -> 46297 | E7: =IF(D7="","",(D7-C7)/45*60) | G7: =IF(F7="","",LOOKUP(F7,'ÜL-Daten-Erfassung'!$H$3:$H$23,'ÜL-Daten-Erfassung'!$I$3:$I$23)) | H7: =WEEKDAY(I7) -> 2 | I7: =I6+1 -> 46328 | L7: =IF(K7="","",(K7-J7)/45*60) | N7: =IF(M7="","",LOOKUP(M7,'ÜL-Daten-Erfassung'!$H$3:$H$23,'ÜL-Daten-Erfassung'!$I$3:$I$23)) | O7: =WEEKDAY(P7) -> 4 | P7: =P6+1 -> 46358 | S7: =IF(R7="","",(R7-Q7)/45*60) | U7: =IF(T7="","",LOOKUP(T7,'ÜL-Daten-Erfassung'!$H$3:$H$23,'ÜL-Daten-Erfassung'!$I$3:$I$23)) | W7: =Quartal_1!W7 -> 46023 | X7: =LOOKUP(W7,'ÜL-Daten-Erfassung'!H26:H30,'ÜL-Daten-Erfassung'!S26:S30) -> 47420 | Y7: =LOOKUP(W7,'ÜL-Daten-Erfassung'!H26:H30,'ÜL-Daten-Erfassung'!T26:T30) -> 47424
A8: =WEEKDAY(B8) -> 7 | B8: =B7+1 -> 46298 | E8: =IF(D8="","",(D8-C8)/45*60) | G8: =IF(F8="","",LOOKUP(F8,'ÜL-Daten-Erfassung'!$H$3:$H$23,'ÜL-Daten-Erfassung'!$I$3:$I$23)) | H8: =WEEKDAY(I8) -> 3 | I8: =I7+1 -> 46329 | L8: =IF(K8="","",(K8-J8)/45*60) | N8: =IF(M8="","",LOOKUP(M8,'ÜL-Daten-Erfassung'!$H$3:$H$23,'ÜL-Daten-Erfassung'!$I$3:$I$23)) | O8: =WEEKDAY(P8) -> 5 | P8: =P7+1 -> 46359 | S8: =IF(R8="","",(R8-Q8)/45*60) | U8: =IF(T8="","",LOOKUP(T8,'ÜL-Daten-Erfassung'!$H$3:$H$23,'ÜL-Daten-Erfassung'!$I$3:$I$23)) | X8: Weihnachten
A9: =WEEKDAY(B9) -> 1 | B9: =B8+1 -> 46299 | E9: =IF(D9="","",(D9-C9)/45*60) | G9: =IF(F9="","",LOOKUP(F9,'ÜL-Daten-Erfassung'!$H$3:$H$23,'ÜL-Daten-Erfassung'!$I$3:$I$23)) | H9: =WEEKDAY(I9) -> 4 | I9: =I8+1 -> 46330 | L9: =IF(K9="","",(K9-J9)/45*60) | N9: =IF(M9="","",LOOKUP(M9,'ÜL-Daten-Erfassung'!$H$3:$H$23,'ÜL-Daten-Erfassung'!$I$3:$I$23)) | O9: =WEEKDAY(P9) -> 6 | P9: =P8+1 -> 46360 | S9: =IF(R9="","",(R9-Q9)/45*60) | U9: =IF(T9="","",LOOKUP(T9,'ÜL-Daten-Erfassung'!$H$3:$H$23,'ÜL-Daten-Erfassung'!$I$3:$I$23)) | X9: =LOOKUP(W7,'ÜL-Daten-Erfassung'!H26:H30,'ÜL-Daten-Erfassung'!U26:U30) -> 47476 | Y9: =LOOKUP(W7,'ÜL-Daten-Erfassung'!H26:H30,'ÜL-Daten-Erfassung'!V26:V30) -> 47487
A10: =WEEKDAY(B10) -> 2 | B10: =B9+1 -> 46300 | E10: =IF(D10="","",(D10-C10)/45*60) | G10: =IF(F10="","",LOOKUP(F10,'ÜL-Daten-Erfassung'!$H$3:$H$23,'ÜL-Daten-Erfassung'!$I$3:$I$23)) | H10: =WEEKDAY(I10) -> 5 | I10: =I9+1 -> 46331 | L10: =IF(K10="","",(K10-J10)/45*60) | N10: =IF(M10="","",LOOKUP(M10,'ÜL-Daten-Erfassung'!$H$3:$H$23,'ÜL-Daten-Erfassung'!$I$3:$I$23)) | O10: =WEEKDAY(P10) -> 7 | P10: =P9+1 -> 46361 | S10: =IF(R10="","",(R10-Q10)/45*60) | U10: =IF(T10="","",LOOKUP(T10,'ÜL-Daten-Erfassung'!$H$3:$H$23,'ÜL-Daten-Erfassung'!$I$3:$I$23))
A11: =WEEKDAY(B11) -> 3 | B11: =B10+1 -> 46301 | E11: =IF(D11="","",(D11-C11)/45*60) | G11: =IF(F11="","",LOOKUP(F11,'ÜL-Daten-Erfassung'!$H$3:$H$23,'ÜL-Daten-Erfassung'!$I$3:$I$23)) | H11: =WEEKDAY(I11) -> 6 | I11: =I10+1 -> 46332 | L11: =IF(K11="","",(K11-J11)/45*60) | N11: =IF(M11="","",LOOKUP(M11,'ÜL-Daten-Erfassung'!$H$3:$H$23,'ÜL-Daten-Erfassung'!$I$3:$I$23)) | O11: =WEEKDAY(P11) -> 1 | P11: =P10+1 -> 46362 | S11: =IF(R11="","",(R11-Q11)/45*60) | U11: =IF(T11="","",LOOKUP(T11,'ÜL-Daten-Erfassung'!$H$3:$H$23,'ÜL-Daten-Erfassung'!$I$3:$I$23))
A12: =WEEKDAY(B12) -> 4 | B12: =B11+1 -> 46302 | E12: =IF(D12="","",(D12-C12)/45*60) | G12: =IF(F12="","",LOOKUP(F12,'ÜL-Daten-Erfassung'!$H$3:$H$23,'ÜL-Daten-Erfassung'!$I$3:$I$23)) | H12: =WEEKDAY(I12) -> 7 | I12: =I11+1 -> 46333 | L12: =IF(K12="","",(K12-J12)/45*60) | N12: =IF(M12="","",LOOKUP(M12,'ÜL-Daten-Erfassung'!$H$3:$H$23,'ÜL-Daten-Erfassung'!$I$3:$I$23)) | O12: =WEEKDAY(P12) -> 2 | P12: =P11+1 -> 46363 | S12: =IF(R12="","",(R12-Q12)/45*60) | U12: =IF(T12="","",LOOKUP(T12,'ÜL-Daten-Erfassung'!$H$3:$H$23,'ÜL-Daten-Erfassung'!$I$3:$I$23))
A13: =WEEKDAY(B13) -> 5 | B13: =B12+1 -> 46303 | E13: =IF(D13="","",(D13-C13)/45*60) | G13: =IF(F13="","",LOOKUP(F13,'ÜL-Daten-Erfassung'!$H$3:$H$23,'ÜL-Daten-Erfassung'!$I$3:$I$23)) | H13: =WEEKDAY(I13) -> 1 | I13: =I12+1 -> 46334 | L13: =IF(K13="","",(K13-J13)/45*60) | N13: =IF(M13="","",LOOKUP(M13,'ÜL-Daten-Erfassung'!$H$3:$H$23,'ÜL-Daten-Erfassung'!$I$3:$I$23)) | O13: =WEEKDAY(P13) -> 3 | P13: =P12+1 -> 46364 | S13: =IF(R13="","",(R13-Q13)/45*60) | U13: =IF(T13="","",LOOKUP(T13,'ÜL-Daten-Erfassung'!$H$3:$H$23,'ÜL-Daten-Erfassung'!$I$3:$I$23))
A14: =WEEKDAY(B14) -> 6 | B14: =B13+1 -> 46304 | E14: =IF(D14="","",(D14-C14)/45*60) | G14: =IF(F14="","",LOOKUP(F14,'ÜL-Daten-Erfassung'!$H$3:$H$23,'ÜL-Daten-Erfassung'!$I$3:$I$23)) | H14: =WEEKDAY(I14) -> 2 | I14: =I13+1 -> 46335 | L14: =IF(K14="","",(K14-J14)/45*60) | N14: =IF(M14="","",LOOKUP(M14,'ÜL-Daten-Erfassung'!$H$3:$H$23,'ÜL-Daten-Erfassung'!$I$3:$I$23)) | O14: =WEEKDAY(P14) -> 4 | P14: =P13+1 -> 46365 | S14: =IF(R14="","",(R14-Q14)/45*60) | U14: =IF(T14="","",LOOKUP(T14,'ÜL-Daten-Erfassung'!$H$3:$H$23,'ÜL-Daten-Erfassung'!$I$3:$I$23))
A15: =WEEKDAY(B15) -> 7 | B15: =B14+1 -> 46305 | E15: =IF(D15="","",(D15-C15)/45*60) | G15: =IF(F15="","",LOOKUP(F15,'ÜL-Daten-Erfassung'!$H$3:$H$23,'ÜL-Daten-Erfassung'!$I$3:$I$23)) | H15: =WEEKDAY(I15) -> 3 | I15: =I14+1 -> 46336 | L15: =IF(K15="","",(K15-J15)/45*60) | N15: =IF(M15="","",LOOKUP(M15,'ÜL-Daten-Erfassung'!$H$3:$H$23,'ÜL-Daten-Erfassung'!$I$3:$I$23)) | O15: =WEEKDAY(P15) -> 5 | P15: =P14+1 -> 46366 | S15: =IF(R15="","",(R15-Q15)/45*60) | U15: =IF(T15="","",LOOKUP(T15,'ÜL-Daten-Erfassung'!$H$3:$H$23,'ÜL-Daten-Erfassung'!$I$3:$I$23))
A16: =WEEKDAY(B16) -> 1 | B16: =B15+1 -> 46306 | E16: =IF(D16="","",(D16-C16)/45*60) | G16: =IF(F16="","",LOOKUP(F16,'ÜL-Daten-Erfassung'!$H$3:$H$23,'ÜL-Daten-Erfassung'!$I$3:$I$23)) | H16: =WEEKDAY(I16) -> 4 | I16: =I15+1 -> 46337 | L16: =IF(K16="","",(K16-J16)/45*60) | N16: =IF(M16="","",LOOKUP(M16,'ÜL-Daten-Erfassung'!$H$3:$H$23,'ÜL-Daten-Erfassung'!$I$3:$I$23)) | O16: =WEEKDAY(P16) -> 6 | P16: =P15+1 -> 46367 | S16: =IF(R16="","",(R16-Q16)/45*60) | U16: =IF(T16="","",LOOKUP(T16,'ÜL-Daten-Erfassung'!$H$3:$H$23,'ÜL-Daten-Erfassung'!$I$3:$I$23))
A17: =WEEKDAY(B17) -> 2 | B17: =B16+1 -> 46307 | E17: =IF(D17="","",(D17-C17)/45*60) | G17: =IF(F17="","",LOOKUP(F17,'ÜL-Daten-Erfassung'!$H$3:$H$23,'ÜL-Daten-Erfassung'!$I$3:$I$23)) | H17: =WEEKDAY(I17) -> 5 | I17: =I16+1 -> 46338 | L17: =IF(K17="","",(K17-J17)/45*60) | N17: =IF(M17="","",LOOKUP(M17,'ÜL-Daten-Erfassung'!$H$3:$H$23,'ÜL-Daten-Erfassung'!$I$3:$I$23)) | O17: =WEEKDAY(P17) -> 7 | P17: =P16+1 -> 46368 | S17: =IF(R17="","",(R17-Q17)/45*60) | U17: =IF(T17="","",LOOKUP(T17,'ÜL-Daten-Erfassung'!$H$3:$H$23,'ÜL-Daten-Erfassung'!$I$3:$I$23))
A18: =WEEKDAY(B18) -> 3 | B18: =B17+1 -> 46308 | E18: =IF(D18="","",(D18-C18)/45*60) | G18: =IF(F18="","",LOOKUP(F18,'ÜL-Daten-Erfassung'!$H$3:$H$23,'ÜL-Daten-Erfassung'!$I$3:$I$23)) | H18: =WEEKDAY(I18) -> 6 | I18: =I17+1 -> 46339 | L18: =IF(K18="","",(K18-J18)/45*60) | N18: =IF(M18="","",LOOKUP(M18,'ÜL-Daten-Erfassung'!$H$3:$H$23,'ÜL-Daten-Erfassung'!$I$3:$I$23)) | O18: =WEEKDAY(P18) -> 1 | P18: =P17+1 -> 46369 | S18: =IF(R18="","",(R18-Q18)/45*60) | U18: =IF(T18="","",LOOKUP(T18,'ÜL-Daten-Erfassung'!$H$3:$H$23,'ÜL-Daten-Erfassung'!$I$3:$I$23))
A19: =WEEKDAY(B19) -> 4 | B19: =B18+1 -> 46309 | E19: =IF(D19="","",(D19-C19)/45*60) | G19: =IF(F19="","",LOOKUP(F19,'ÜL-Daten-Erfassung'!$H$3:$H$23,'ÜL-Daten-Erfassung'!$I$3:$I$23)) | H19: =WEEKDAY(I19) -> 7 | I19: =I18+1 -> 46340 | L19: =IF(K19="","",(K19-J19)/45*60) | N19: =IF(M19="","",LOOKUP(M19,'ÜL-Daten-Erfassung'!$H$3:$H$23,'ÜL-Daten-Erfassung'!$I$3:$I$23)) | O19: =WEEKDAY(P19) -> 2 | P19: =P18+1 -> 46370 | S19: =IF(R19="","",(R19-Q19)/45*60) | U19: =IF(T19="","",LOOKUP(T19,'ÜL-Daten-Erfassung'!$H$3:$H$23,'ÜL-Daten-Erfassung'!$I$3:$I$23))
A20: =WEEKDAY(B20) -> 5 | B20: =B19+1 -> 46310 | E20: =IF(D20="","",(D20-C20)/45*60) | G20: =IF(F20="","",LOOKUP(F20,'ÜL-Daten-Erfassung'!$H$3:$H$23,'ÜL-Daten-Erfassung'!$I$3:$I$23)) | H20: =WEEKDAY(I20) -> 1 | I20: =I19+1 -> 46341 | L20: =IF(K20="","",(K20-J20)/45*60) | N20: =IF(M20="","",LOOKUP(M20,'ÜL-Daten-Erfassung'!$H$3:$H$23,'ÜL-Daten-Erfassung'!$I$3:$I$23)) | O20: =WEEKDAY(P20) -> 3 | P20: =P19+1 -> 46371 | S20: =IF(R20="","",(R20-Q20)/45*60) | U20: =IF(T20="","",LOOKUP(T20,'ÜL-Daten-Erfassung'!$H$3:$H$23,'ÜL-Daten-Erfassung'!$I$3:$I$23))
A21: =WEEKDAY(B21) -> 6 | B21: =B20+1 -> 46311 | E21: =IF(D21="","",(D21-C21)/45*60) | G21: =IF(F21="","",LOOKUP(F21,'ÜL-Daten-Erfassung'!$H$3:$H$23,'ÜL-Daten-Erfassung'!$I$3:$I$23)) | H21: =WEEKDAY(I21) -> 2 | I21: =I20+1 -> 46342 | L21: =IF(K21="","",(K21-J21)/45*60) | N21: =IF(M21="","",LOOKUP(M21,'ÜL-Daten-Erfassung'!$H$3:$H$23,'ÜL-Daten-Erfassung'!$I$3:$I$23)) | O21: =WEEKDAY(P21) -> 4 | P21: =P20+1 -> 46372 | S21: =IF(R21="","",(R21-Q21)/45*60) | U21: =IF(T21="","",LOOKUP(T21,'ÜL-Daten-Erfassung'!$H$3:$H$23,'ÜL-Daten-Erfassung'!$I$3:$I$23))
... A33: =WEEKDAY(B33) -> 4 | B33: =B32+1 -> 46323 | E33: =IF(D33="","",(D33-C33)/45*60) | G33: =IF(F33="","",LOOKUP(F33,'ÜL-Daten-Erfassung'!$H$3:$H$23,'ÜL-Daten-Erfassung'!$I$3:$I$23)) | H33: =WEEKDAY(I33) -> 7 | I33: =I32+1 -> 46354 | L33: =IF(K33="","",(K33-J33)/45*60) | N33: =IF(M33="","",LOOKUP(M33,'ÜL-Daten-Erfassung'!$H$3:$H$23,'ÜL-Daten-Erfassung'!$I$3:$I$23)) | O33: =WEEKDAY(P33) -> 2 | P33: =P32+1 -> 46384 | S33: =IF(R33="","",(R33-Q33)/45*60) | U33: =IF(T33="","",LOOKUP(T33,'ÜL-Daten-Erfassung'!$H$3:$H$23,'ÜL-Daten-Erfassung'!$I$3:$I$23))
A34: =WEEKDAY(B34) -> 5 | B34: =B33+1 -> 46324 | E34: =IF(D34="","",(D34-C34)/45*60) | G34: =IF(F34="","",LOOKUP(F34,'ÜL-Daten-Erfassung'!$H$3:$H$23,'ÜL-Daten-Erfassung'!$I$3:$I$23)) | H34: =WEEKDAY(I34) -> 1 | I34: =I33+1 -> 46355 | L34: =IF(K34="","",(K34-J34)/45*60) | N34: =IF(M34="","",LOOKUP(M34,'ÜL-Daten-Erfassung'!$H$3:$H$23,'ÜL-Daten-Erfassung'!$I$3:$I$23)) | O34: =IF(P34<>"",WEEKDAY(P34),"") -> 3 | P34: =P33+1 -> 46385 | S34: =IF(R34="","",(R34-Q34)/45*60) | U34: =IF(T34="","",LOOKUP(T34,'ÜL-Daten-Erfassung'!$H$3:$H$23,'ÜL-Daten-Erfassung'!$I$3:$I$23))
A35: =WEEKDAY(B35) -> 6 | B35: =B34+1 -> 46325 | E35: =IF(D35="","",(D35-C35)/45*60) | G35: =IF(F35="","",LOOKUP(F35,'ÜL-Daten-Erfassung'!$H$3:$H$23,'ÜL-Daten-Erfassung'!$I$3:$I$23)) | H35: =WEEKDAY(I35) -> 2 | I35: =I34+1 -> 46356 | L35: =IF(K35="","",(K35-J35)/45*60) | N35: =IF(M35="","",LOOKUP(M35,'ÜL-Daten-Erfassung'!$H$3:$H$23,'ÜL-Daten-Erfassung'!$I$3:$I$23)) | O35: =WEEKDAY(P35) -> 4 | P35: =P34+1 -> 46386 | S35: =IF(R35="","",(R35-Q35)/45*60) | U35: =IF(T35="","",LOOKUP(T35,'ÜL-Daten-Erfassung'!$H$3:$H$23,'ÜL-Daten-Erfassung'!$I$3:$I$23))
A36: =WEEKDAY(B36) -> 7 | B36: =B35+1 -> 46326 | E36: =IF(D36="","",(D36-C36)/45*60) | G36: =IF(F36="","",LOOKUP(F36,'ÜL-Daten-Erfassung'!$H$3:$H$23,'ÜL-Daten-Erfassung'!$I$3:$I$23)) | L36: =IF(K36="","",(K36-J36)/45*60) | N36: =IF(M36="","",LOOKUP(M36,'ÜL-Daten-Erfassung'!$H$3:$H$23,'ÜL-Daten-Erfassung'!$I$3:$I$23)) | O36: =WEEKDAY(P36) -> 5 | P36: =P35+1 -> 46387 | S36: =IF(R36="","",(R36-Q36)/45*60) | U36: =IF(T36="","",LOOKUP(T36,'ÜL-Daten-Erfassung'!$H$3:$H$23,'ÜL-Daten-Erfassung'!$I$3:$I$23))
A37: Gesamt | D37: =SUM(E6:E36) -> 0 | H37: Gesamt | K37: =SUM(L6:L36) -> 0 | M37: Stand 01.2017/©swegmann | O37: Gesamt | R37: =SUM(S6:S36) -> 0 | T37: Okt Dez | U37: =SUM(D37+K37+R37) -> 0
A39: Hinweis: | D39: Eine bezuschussungsfähige Übungsstunden beträgt 45 Minuten. Es können nur volle Übungsstunden (also 45 Minuten) in Ansatz gebracht werden. Ganze Stunden (60 Minuten) sind entsprechend auf 45 Minuten zu kürzen, auch wenn sie deshalb von der zugeteilten Übungszeit abweichen.
D41: Übungszeit z.B. von 17:00 - 18:00 ist abgerundet von 17:00 bis 17:45 Uhr (ist 1 Stunde) zu erfassen- 90 Minuten werden als 2 Stunden ausgewiesen!
D42: Beachte hierzu Hinweise: Übungszeiten!!
D43: =IF(T2>0,"",T2) -> 0 | F43: <== Wenn Fehlermeldung #WERT! angezeigt wird: PRÜFE Stundeneingabe (Fehler ##### in Spalte Std.)
F44: Stundenspalte <von - bis> EINGABE muss immer mit DOPPELPUNKT (z.B. 18:00) erfolgen!!

Sheet ÜL-Abrechnung
K1: 2026
A2: Name des Vereins | C2: ='ÜL-Daten-Erfassung'!D3 -> 0
A3: Bestätigung des Übungsleiters
A4: Hiermit bestätige ich
A5: Name | C5: ='ÜL-Daten-Erfassung'!E10&" "&'ÜL-Daten-Erfassung'!E9
A6: Anschrift | C6: ='ÜL-Daten-Erfassung'!E11&", "&'ÜL-Daten-Erfassung'!E12&", Tel.: "&'ÜL-Daten-Erfassung'!E13 -> , , Tel.:
A7: Nummer des Übungsleiterausweises: | D7: ='ÜL-Daten-Erfassung'!E17 -> 0 | I7: Fachrichtung: (A, A-L, A-S, J, F) | K7: ='ÜL-Daten-Erfassung'!E18 -> 0
A8: ausgestellt am: | C8: ='ÜL-Daten-Erfassung'!E19 -> 0 | F8: verlängert am: | I8: ='ÜL-Daten-Erfassung'!E20 -> 0 | J8: gültig bis: | K8: ='ÜL-Daten-Erfassung'!E21 -> 0
A9: mit Fortbildung des Fachverbandes | D9: ='ÜL-Daten-Erfassung'!E23 -> 0 | I9: für den antragstellenden Verein
A10: in der Zeit vom: | C10: ='ÜL-Daten-Erfassung'!E24 -> 0 | D10: bis | E10: ='ÜL-Daten-Erfassung'!E25 -> 0 | I10: nebenberuflich | K10: ='ÜL-Daten-Erfassung'!E26 -> 0
A11: in der Sportart/Sportarten | D11: ='ÜL-Daten-Erfassung'!D27 -> 0 | I11: Anzahl | J11: =SUM(Quartal_1!D37+Quartal_1!K37+Quartal_1!R37+Quartal_2!D37+Quartal_2!K37+Quartal_2!R37+Quartal_3!D37+Quartal_3!K37+Quartal_3!R37+Quartal_4!D37+Quartal_4!K37+Quartal_4!R37) -> 0 | K11: Übungsstunden
A12: abgehalten zu haben.
A13: Außerdem war ich noch tätig für: | G13: Nur auszufüllen für Tätigkeiten in weiteren Vereinen!
A14: Name und Anschrift des Vereins/der Vereine | G14: Monat | H14: Anzahl der Übungsstunden | J14: Monat | K14: Anzahl der Übungsstunden
G15: Januar | J15: Juli
G16: Februar | J16: August
G17: März | J17: September
G18: April | J18: Oktober
G19: Mai | J19: November
G20: Juni | J20: Dezember
G21: Zwischen- summe | H21: =SUM(H15:I20) -> 0 | J21: Gesamt: | K21: =SUM(K15:K20)+H21 -> 0
A23: Sportart(en)
A26: Name der Bank: | C26: ='ÜL-Daten-Erfassung'!D16 -> 0 | G26: IBAN/BIC | H26: ='ÜL-Daten-Erfassung'!D14 -> 0 | K26: ='ÜL-Daten-Erfassung'!D15 -> 0
A27: Bestätigung des Übungsleiters für das Kalenderjahr | H27: 2026
A28: - | B28: ich bestätige hiermit, dass ich im Rahmen meiner ÜL-Tätigkeit den gesetzlichen Höchsbetrag von z.Zt. gültigen 3.300,00 € im laufenden Kalenderjahr nicht überschreiten werde.
A29: - | B29: Mein Freibetrag ausschließlich dem erstgenannten Verein zur Verfügung steht. Sollte ich in weiteren Vereinen tätig sein, bin ich verpflichtet dies im Voraus den betroffenen Vereinen anzuzeigen.
A30: - | B30: mir ist bewusst, dass Einkünfte aus ÜL-Tätigkeit und Fahrtkosten, aus allen Vereinen addiert werden müssen und die Honorare gegenüber dem Finanzamt erklärt werden müssen (Straftatbestand des Steuerbetruges)
A31: - | B31: Ich bestätige zudem, dass die in der Abrechnung aufgeführten Übungsstunden von mir selbst, gemäß den Sportförderrichtlinien der Stadt Immenstadt abgehalten wurden.
A33: Datum | D33: Übungsleiter/in | J33: 1. Vorsitzende/r
K34: {='ÜL-Daten-Erfassung'!A34:C34} -> © swegmann, 05.2020 | L34: 0 | M34: 0
