Workbook

Sheet Hinweis und Übungsstätten
A1: Benutzung städtischer Sportanlagen und Übungsstätten
A2: Gebührenerfassung - Abrechnung | Q2: ©swegmann/05.2020
A3: Die Sportstättenmiete ist als Umlage Ausgleich zwischen Vereinen ohne eigene Sportanlagen (also Nutzern städtischer Einrichtungen) und Vereinen die den Unterhalt eigener Anlagen bestreiten müssen. Für die Umverteilung der Sportstättenmiete gilt die Jugendarbeit als Förderkriterium und Vergabeschlüssel. Die Verrechnung der Sportstättenmieten erfolgt mit der Mittelzuweisung. Erst wenn sich daraus kein Guthaben ergeben sollte, ergeht gesonderte Rechnungsstellung!
A4: Für die zeitgerechte Abrechnung der Benutzungsgebühren für städtische Sportanlagen und Übungsstätten sind die Abrechnungsformulare bis spätestens zum 1. April des Folgejahres an die Sportabteilung der Stadt einzureichen. Bei nicht fristgerechter Vorlage erfolgt die Abrechnung nach vorliegendem Belegungsplan - ohne Berücksichtigung von Jugendlichen und ggf. Nebenkostenabzug!
A5: Vereine, die ihre Sportstättenabrechnungen manuell erstellen (Ausnahme, weil umständliche Berechnung), sind alle Vereinsdaten lesbar in allen Formularen einzutragen!
A6: Städtische Übungsstätten | E6: Bearbeitungshinweise: | K6: Nebenkosten | O6: Erläuterungen/Funktionen zu den Tabellenblättern:
A7: Nr. | B7: Sportstätte | C7: Gebühr | E7: (Nur für Bearbeitung mit Excel!)
A8: 1 | B8: Grüntenhalle | C8: 3 | E8: Bitte Vereinsdaten in Tabelle 1<Vereinsdaten> erfassen | K8: Nebenkosten, die Vereinen für die Benut-zung städtischer Übungsstätten berechnet wurden, sind in der Nebenkostenabrech-nung in voller Höhe anzugeben. Sie wer-den jedoch nur bis zur Höhe der angefal-lenen Mietkosten angerechnet. | O8: 1 | P8: Hinweise und Übungsstätten | Q8: Allgemeine Hinweise und Sportstättenschlüssel
A9: 2 | B9: Jul-Kunert-Halle Kraftraum | C9: 3
A10: 3 | B10: Julius-Kunert-Halle 1 | C10: 3 | E10: Abrechnungsjahr muss immer das Jahr vor der Antragsstellung sein! | O10: 2 | P10: TABELLE >Vereinsdaten< | Q10: Erfassung der Vereinsdaten erforderlich!! Daten werden in alle Formulare übernommen!
A11: 4 | B11: Julius-Kunert-Halle 2 | C11: 3
A12: 5 | B12: Julius-Kunert-Halle 3 | C12: 3 | O12: 3 | P12: TABELLE >Winter_ Jan_März< | Q12: Datenimprt aus Tab.1. Eingabe der Belegzeiten mit Berechnung der Regelbelegung. Änderung bei abweichender Regelbelegung in nächster Spalte: Verkürzung die Ausnahme; Verlängerung, wenn während der Ferien in städt. Sportanlagen trainiert wird.
A13: 6 | B13: Königsegghalle | C13: 3 | E13: Vereinsnamen, Name, Vorname und Telefon des Bearbeiters und Vorstand: Daten nur einmal ausgefüllt, werden ebenfalls aus den Vereinsdaten in alle Tabellen übernommen
A14: 7 | B14: Maria Stern | C14: 3 | K14: Die Nebenkosten werden für das gesam-te Kalenderjahr (1.1-31.12.) abgerechnet und sind für jede Übungsstätte mit geson-dertem Nachweis aufzulisten und durch beigelegte Rechnungskopien des Versor-gungsunternehmens nachzuweisen. | O14: 4 | P14: TABELLE Winter_Sept_Dez
A15: 8 | B15: Sporthalle Stein | C15: 3
A16: 9 | B16: Hallenbad | C16: 3 | O16: 5 | P16: TABELLE Sommer_April-August
A17: 10 | B17: Schießanlage | C17: 3 | E17: Drucken
A18: 11 | B18: Alte Schule - Jahnstraße | C18: 3 | E18: Alle Formulare können gleichzeitig gedruckt werden: Taste <Strg> halten und mit der Maus alle Tabellenblätter anklicken, danach Druckauftrag starten. Aufgrund möglicher unterschiedlicher Druckereinstellungen empfiehlt sich zuvor über die Seitenansicht die Druckausgabe zu überprüfen! | O18: 6 | P18: Sommer Fußball/ Leichtathletik | Q18: Die bisher für Fußballvereine gesondert bereitgestellten Formulare entfallen. Die Belegung der Frei-/bzw. Hallenplätze ist entsprechend der Zeiträume in den Tabellenblättern zu erfassen.
A19: 12 | B19: Kindergarten Am Graben | C19: 3
A20: 13 | B20: Freibad am Kleinen Alpsee | C20: 3 | K20: Weil städtische Nebenkostenabrechnun-gen bis zum Antragstermin i.d.R. nicht vorliegen, können in Zukunft Abrechnungen des Vorjahres eingereicht werden!
A21: 14 | B21: Platz 1 Stadion Hauptplatz | C21: 6 | O21: 7 | P21: Winter Fußball
A22: 15 | B22: Platz 2 Stadion Kunstrasen | C22: 6
A23: 16 | B23: Platz 3 Nebenplatz am KKH | C23: 3 | O23: 8 | P23: Nebenkosten | Q23: Nebenkostenabrechnung mit TABELLE - Anlage 10 (i.d.R. Schützenheime, hierfür Schlüsselnummer 10 in der Tabelle Vereinsdaten erfassen!)
A24: 17 | E24: Auskünfte und Fragen? | K24: Vereine, die Sportstätten mit anderen Vereinen nutzen, haben die Nebenkosten ggf. anteilig aufzuschlüsseln.
A25: 18 | B25: Leichtathletikanlage | C25: 1.5 | E25: Siegfried Wegmann Tel. 08323/6610 Email: siegfried.wegmann@web.de

Sheet Vereinsdaten
A1: Bitte keine Formulare manuell ausfüllen! Mit der Erfassung am PC erfolgt eine Übernahme aller relevanten Daten in die nachfolgenden Formulare und stellt eine fehlerfreie Berechnung sicher! Die Erfassungsmasske dient nur der Vereinsdatenerhebung muss nicht als Anlage ausgedruckt und mit vorgelegt werden!
A2: Erfassungsmaske für Vereinsdaten
A3: Antrag erstellt am: | D3: 44197 | G3: Mietabrechnung für: | J3: 43831 | L3: =IF(YEAR($D$3)=YEAR($J$3)+1,"","Abrechnung ist nicht für Vorjahr")
A4: Verein | I4: 1. Vorsitzende/r
A5: Abrechnung erstellt: Name
A6: Vorname | I6: Wohnort | J6: 87509 Immenstadt | L6: ggf. ändern - Beachte Feldbreite
A7: Telefon | I7: *Hier vorgegebene Belegwochen ggf. mit tatsächlicher Regelbele-gung abgleichen, weil in Ferien mit Hallensperrung eine Nutzung auf Antrag genemigt werden kann. Trainingsausfälle berechtigen keine Reduzierung der tatsächlich zugeteilten Wochennutzung!
A8: Schlüssel Nr. siehe Tabelle <Hinweise und Übungsstätten> | E8: Nur wenn Nebenkosten (Anl. 10) geltend gemacht werden können. <=Sportstätte (Schl-Nr.) eintragen:
E9: Winter Jan.-März | G9: Sommer | I9: Winter Nur Stadion! | K9: Winter Jul.-Kunert-Halle | M9: Winter Sonst. Sporthallen
E10: vom | F10: bis | G10: vom | H10: bis | I10: von | J10: bis | K10: vom | L10: bis | M10: vom | N10: bis
B11: Regelbelegung Sporthallen* | E11: 45658 | F11: =EOMONTH(E11,2) -> 45747 | G11: =F11+1 -> 45748 | H11: 45869 | I11: 45901 | J11: 46012 | K11: 45931 | L11: 46022 | M11: 45915 | N11: 46022
B12: Anzahl Wochen (-Ferien) | E12: =WEEKNUM(F11)-WEEKNUM(E11) -> 13 | G12: =WEEKNUM(H11)-WEEKNUM(G11) -> 17 | I12: =WEEKNUM(J11)-WEEKNUM(I11) -> 16 | K12: =WEEKNUM(L11)-WEEKNUM(K11) -> 13 | M12: =WEEKNUM(N11)-WEEKNUM(M11) -> 15
E13: Schulferien in Bayern | K13: =A18 -> 45658 | M13: bis | N13: =A22 -> 47119 | P13: Ferienkalenderberechnung
A15: Achtung hier keine Änderungen vornehmen | F15: =B18 -> 45658 | H15: bis | I15: =O22 -> 47487 | K15: Eintragungen nur für Fortschreibung des Ferienkalenders | P15: =J3 -> 43831 | W15: Anzahl Wochen | X15: Anzahl Tage | Y15: Wochenbelegung ohne Ferien
A16: Jahr | B16: Weihnachten | D16: Winter | F16: Ostern | H16: Pfingsten | J16: Sommer | L16: Herbst | N16: Weihnachten | R16: von | T16: bis | U16: KW | V16: KW
B17: Winterbelegung 1 | G17: Sommerbelegung | J17: Schulende | K17: Ferienende und Winterbelegung 2 | P17: Turnus 1 Jan-März | Q17: =R17 -> 45658 | R17: =E11 -> 45658 | S17: =T17 -> 45747 | T17: =EOMONTH(R17,2) -> 45747 | U17: =WEEKNUM(R17) -> 1 | V17: =WEEKNUM(T17) -> 14 | W17: =ROUNDUP(DAYS360(R17,T17)/7,0) -> 13 | X17: =IF(R17="","",DAYS360(R17,T17)) -> 90 | Y17: =W17+W21 -> #N/A
A18: 45658 | B18: 45658 | C18: 45660 | D18: 45719 | E18: 45723 | F18: 45761 | G18: 45772 | H18: 45818 | I18: 45828 | J18: 45870 | K18: 45915 | L18: 45964 | M18: 45968 | N18: 46013 | O18: 46027 | P18: Ferien Januar | Q18: =R18 -> #N/A | R18: =LOOKUP(P15,A18:A22,B18:B22) -> #N/A | S18: =T18 -> #N/A | T18: =LOOKUP(P15,A18:A22,C18:C22) -> #N/A | U18: =WEEKNUM(R18) -> #N/A | V18: =WEEKNUM(T18) -> #N/A | W18: =ROUNDUP(DAYS360(R18,T18)/7,0) -> #N/A | X18: =IF(R18="","",DAYS360(R18,T18)) -> #N/A
A19: 46023 | B19: 46023 | C19: 46027 | D19: 46069 | E19: 46073 | F19: 46111 | G19: 46122 | H19: 46168 | I19: 46178 | J19: 46237 | K19: 46279 | L19: 46328 | M19: 46332 | N19: 46380 | O19: 46395 | P19: Faschingsferien | Q19: =R19 -> #N/A | R19: =LOOKUP(P15,A18:A22,D18:D22) -> #N/A | S19: =T19 -> #N/A | T19: =LOOKUP(P15,A18:A22,E18:E22) -> #N/A | U19: =WEEKNUM(R19) -> #N/A | V19: =WEEKNUM(T19) -> #N/A | W19: =ROUNDUP(DAYS360(R19,T19)/7,0) -> #N/A | X19: =IF(R19="","",DAYS360(R19,T19)) -> #N/A
A20: 46388 | B20: 46388 | C20: 46395 | D20: 46426 | E20: 46430 | F20: 46468 | G20: 46479 | H20: 46525 | I20: 46535 | J20: 46601 | K20: 46643 | L20: 46693 | M20: 46696 | N20: 46745 | O20: 46759 | P20: Osterferien gesamt | Q20: =R20 -> #N/A | R20: =LOOKUP(P15,A18:A22,F18:F22) -> #N/A | S20: =T20 -> #N/A | T20: =LOOKUP(P15,A18:A22,G18:G22) -> #N/A | U20: =WEEKNUM(R20) -> #N/A | V20: =WEEKNUM(T20) -> #N/A | W20: =ROUNDUP(DAYS360(R20,T20)/7,0) -> #N/A | X20: =IF(R20="","",DAYS360(R20,T20)) -> #N/A
A21: 46753 | B21: 46753 | C21: 46759 | D21: 46811 | E21: 46815 | F21: 46853 | G21: 46864 | H21: 46910 | I21: 46920 | J21: 46965 | K21: 47007 | L21: 47056 | M21: 47060 | N21: 47114 | O21: 47123 | P21: Osterferien im März | Q21: =R21 -> #N/A | R21: =IF(AND(MONTH(R20)=3,MONTH(T20)=3),R20,IF(AND(MONTH(R20)=3,MONTH(T20)=4),R20,"")) -> #N/A | S21: =T21 -> #N/A | T21: =IF(AND(MONTH(R20)=3,MONTH(T20)=3),R20,IF(AND(MONTH(R20)=3,MONTH(T20)=4),EOMONTH(R20,0),"")) -> #N/A | U21: =IF(R21<>"",WEEKNUM(R21),"") -> #N/A | V21: =IF(T21<>"",WEEKNUM(T21),"") -> #N/A | W21: =IF(X21="",0,IF(X21<3,0,ROUNDUP((X21)/7,0))) -> #N/A | X21: =IF(R21="","",DAYS360(R21,T21)) -> #N/A
A22: 47119 | B22: 47119 | C22: 47123 | D22: 47161 | E22: 47165 | F22: 47203 | G22: 47214 | H22: 47260 | I22: 47270 | J22: 47329 | K22: 47371 | L22: 47420 | M22: 47424 | N22: 47476 | O22: 47487 | P22: Turnus 2 Sommer | Q22: =R22 -> 43586 | R22: =EOMONTH(P15,-9)+1 -> 43586 | S22: =T22 -> #N/A | T22: =LOOKUP(P15,A18:A22,J18:J22) -> #N/A | U22: =WEEKNUM(R22) -> 18 | V22: =WEEKNUM(T22) -> #N/A | W22: =IF(R22="","",ROUND(DAYS360(R22,T22)/7,0)) -> #N/A | X22: =IF(R22="","",DAYS360(R22,T22)) -> #N/A | Y22: =W22-SUM(W23:W24) -> #N/A
B23: < Keine Hallenschließung > | F23: < Sporthallen während der Ferien geschlossen > | L23: < > | N23: < > | P23: Osterferien im April | Q23: =R23 -> #N/A | R23: =IF(AND(MONTH(R20)=4,MONTH(T20)=4),R20,IF(AND(MONTH(R20)=3,MONTH(T20)=4),EOMONTH(R20,0)+1,"")) -> #N/A | S23: =T23 -> #N/A | T23: =IF(MONTH(T20)=4,T20,"") -> #N/A | U23: =WEEKNUM(R23) -> #N/A | V23: =WEEKNUM(T23) -> #N/A | W23: =IF(X23="","",IF(X23>4,ROUNDUP((X23)/7,0),"")) -> #N/A | X23: =IF(R23="","",DAYS360(R23,T23)) -> #N/A
A24: Quelle Ferienkalender: Internet Schulferien Bayern | N24: ='Hinweis und Übungsstätten'!Q2 -> ©swegmann/05.2020 | P24: Pfingstferien gesamt | Q24: =R24 -> #N/A | R24: =LOOKUP(P15,A18:A22,H18:H22) -> #N/A | S24: =T24 -> #N/A | T24: =LOOKUP(P15,A18:A22,I18:I22) -> #N/A | U24: =WEEKNUM(R24) -> #N/A | V24: =WEEKNUM(T24) -> #N/A | W24: =IF(R24="","",ROUNDUP(DAYS360(R24,T24)/7,0)) -> #N/A | X24: =IF(R24="","",DAYS360(R24,T24)) -> #N/A
B25: Achtung: | P25: Turnus 3 Sept-Dez | Q25: =R25 -> #N/A | R25: =LOOKUP(P15,A18:A22,K18:K22) -> #N/A | S25: =T25 -> #N/A | T25: =LOOKUP(P15,A18:A22,O18:O22) -> #N/A | U25: =WEEKNUM(R25) -> #N/A | V25: =WEEKNUM(T25) -> #N/A | W25: =IF(R25="","",ROUND(DAYS360(R25,T25)/7,0)) -> #N/A | X25: =IF(R25="","",DAYS360(R25,T25)) -> #N/A | Y25: =W25-W28 -> #N/A
B26: Bei Fortschreibung des Ferienkalenders (Daten im Internet aus Ferienkalender Bayern) immer Jahresfolge einhalten! | P26: J-K-H | Q26: =R26 -> 43739 | R26: =EOMONTH(P15,-4)+1 -> 43739 | S26: =T26 -> 46022 | T26: =EOMONTH(R17,11) -> 46022 | U26: =WEEKNUM(R26) -> 40 | V26: =WEEKNUM(T26) -> 53 | W26: =ROUND(DAYS360(R26,T26)/7,0) -> 321 | X26: =DAYS360(R26,T26) -> 2250 | Y26: =W26-W28 -> #N/A
P27: Herbst | Q27: =R27 -> #N/A | R27: =LOOKUP(P15,A18:A22,L18:L22) -> #N/A | S27: =T27 -> #N/A | T27: =LOOKUP(P15,A18:A22,M18:M22) -> #N/A | U27: =WEEKNUM(R27) -> #N/A | V27: =WEEKNUM(T27) -> #N/A | W27: =IF(R27="","",ROUNDUP(DAYS360(R27,T27)/7,0)) -> #N/A | X27: =IF(R27="","",DAYS360(R27,T27)) -> #N/A
P28: Weihnachten | Q28: =R28 -> #N/A | R28: =LOOKUP(P15,A18:A22,N18:N22) -> #N/A | S28: =T28 -> #N/A | T28: =LOOKUP(P15,A18:A22,O18:O22) -> #N/A | U28: =WEEKNUM(R28) -> #N/A | V28: =WEEKNUM(T28) -> #N/A | W28: =IF(R28="","",ROUND(DAYS360(R28,T28)/7,0)) -> #N/A | X28: =IF(R28="","",DAYS360(R28,T28)) -> #N/A

Sheet Winter_Jan_März
A1: Verein | B1: =Vereinsdaten!D4 -> 0 | E1: Abrechnung erstellt Name Vorname | G1: =Vereinsdaten!D5&", "&Vereinsdaten!D6 -> , | N1: Tel: | O1: =Vereinsdaten!D7 -> 0 | Q1: =IF(B1=0,"Bitte Tabelle Vereinsdaten vollständig ausfüllen","") -> Bitte Tabelle Vereinsdaten vollständig ausfüllen
C2: Abrechnung der Sport-/Übungsstätten - Winter 1/ Frühjahr | N2: =Vereinsdaten!J3 -> 43831
D3: vom | E3: =Vereinsdaten!E11 -> 45658 | G3: bis | H3: =Vereinsdaten!F11 -> 45747 | K3: =Vereinsdaten!L3
D4: Trainingszeiten | J4: Wochen- stunden | K4: Stunden- satz | L4: Betrag pro Woche | M4: *Regel- belegung Wochen | N4: **Tats. belegt: Wochen | O4: Kosten pro Wochen gesamt | P4: Hinweise:
D5: Nur für überwiegend erwachsene Teilnehmer
A6: Sport-/Übungsstätten | D6: Mo | E6: Di | F6: Mi | G6: Do | H6: Fr | I6: Sa
A7: ='Hinweis und Übungsstätten'!B8 -> Grüntenhalle | J7: =SUM(D7:I7) -> 0 | K7: ='Hinweis und Übungsstätten'!C8 -> 3 | L7: =J7*K7 -> 0 | M7: =IF(AND(L7>0,N7=""),Vereinsdaten!$E$12,"") | O7: =IF(AND(L7="",N7=""),"",IF(M7="",L7*N7,L7*M7)) -> 0 | P7: Julius-Kunert-Halle:
A8: ='Hinweis und Übungsstätten'!B9 -> Jul-Kunert-Halle Kraftraum | J8: =SUM(D8:I8) -> 0 | K8: ='Hinweis und Übungsstätten'!C9 -> 3 | L8: =J8*K8 -> 0 | M8: =IF(AND(L8>0,N8=""),Vereinsdaten!$E$12,"") | O8: =IF(AND(L8="",N8=""),"",IF(M8="",L8*N8,L8*M8)) -> 0 | P8: Jede Halleneinheit einzeln erfassen (eine Stunde Gesamthalle, dann Eingabe in jedem Drittel erforderlich).
A9: ='Hinweis und Übungsstätten'!B10 -> Julius-Kunert-Halle 1 | J9: =SUM(D9:I9) -> 0 | K9: ='Hinweis und Übungsstätten'!C10 -> 3 | L9: =J9*K9 -> 0 | M9: =IF(AND(L9>0,N9=""),Vereinsdaten!$E$12,"") | O9: =IF(AND(L9="",N9=""),"",IF(M9="",L9*N9,L9*M9)) -> 0
A10: ='Hinweis und Übungsstätten'!B11 -> Julius-Kunert-Halle 2 | J10: =SUM(D10:I10) -> 0 | K10: ='Hinweis und Übungsstätten'!C11 -> 3 | L10: =J10*K10 -> 0 | M10: =IF(AND(L10>0,N10=""),Vereinsdaten!$E$12,"") | O10: =IF(AND(L10="",N10=""),"",IF(M10="",L10*N10,L10*M10)) -> 0
A11: ='Hinweis und Übungsstätten'!B12 -> Julius-Kunert-Halle 3 | J11: =SUM(D11:I11) -> 0 | K11: ='Hinweis und Übungsstätten'!C12 -> 3 | L11: =J11*K11 -> 0 | M11: =IF(AND(L11>0,N11=""),Vereinsdaten!$E$12,"") | O11: =IF(AND(L11="",N11=""),"",IF(M11="",L11*N11,L11*M11)) -> 0 | P11: *Regelbelegung:
A12: ='Hinweis und Übungsstätten'!B13 -> Königsegghalle | J12: =SUM(D12:I12) -> 0 | K12: ='Hinweis und Übungsstätten'!C13 -> 3 | L12: =J12*K12 -> 0 | M12: =IF(AND(L12>0,N12=""),Vereinsdaten!$E$12,"") | O12: =IF(AND(L12="",N12=""),"",IF(M12="",L12*N12,L12*M12)) -> 0 | P12: Selbstrechnende Wochenbe-legung mit Ferienabzug!
A13: ='Hinweis und Übungsstätten'!B14 -> Maria Stern | J13: =SUM(D13:I13) -> 0 | K13: ='Hinweis und Übungsstätten'!C14 -> 3 | L13: =J13*K13 -> 0 | M13: =IF(AND(L13>0,N13=""),Vereinsdaten!$E$12,"") | O13: =IF(AND(L13="",N13=""),"",IF(M13="",L13*N13,L13*M13)) -> 0
A14: ='Hinweis und Übungsstätten'!B15 -> Sporthalle Stein | J14: =SUM(D14:I14) -> 0 | K14: ='Hinweis und Übungsstätten'!C15 -> 3 | L14: =J14*K14 -> 0 | M14: =IF(AND(L14>0,N14=""),Vereinsdaten!$E$12,"") | O14: =IF(AND(L14="",N14=""),"",IF(M14="",L14*N14,L14*M14)) -> 0 | P14: ** Regelabweichende Wochenzahl hier erfassen!
A15: ='Hinweis und Übungsstätten'!B16 -> Hallenbad | J15: =SUM(D15:I15) -> 0 | K15: ='Hinweis und Übungsstätten'!C16 -> 3 | L15: =J15*K15 -> 0 | M15: =IF(AND(L15>0,N15=""),Vereinsdaten!$E$12,"") | O15: =IF(AND(L15="",N15=""),"",IF(M15="",L15*N15,L15*M15)) -> 0
A16: ='Hinweis und Übungsstätten'!B17 -> Schießanlage | J16: =SUM(D16:I16) -> 0 | K16: ='Hinweis und Übungsstätten'!C17 -> 3 | L16: =J16*K16 -> 0 | M16: =IF(AND(L16>0,N16=""),Vereinsdaten!$E$12,"") | O16: =IF(AND(L16="",N16=""),"",IF(M16="",L16*N16,L16*M16)) -> 0 | P16: Eingabe nur, wenn die tatsächliche Belegung von der Regelbelegung abweicht. Z.B.: Fußball/Leichtathletik Trainingsausfälle begründen keine Reduzierung!
A17: ='Hinweis und Übungsstätten'!B18 -> Alte Schule - Jahnstraße | J17: =SUM(D17:I17) -> 0 | K17: ='Hinweis und Übungsstätten'!C18 -> 3 | L17: =J17*K17 -> 0 | M17: =IF(AND(L17>0,N17=""),Vereinsdaten!$E$12,"") | O17: =IF(AND(L17="",N17=""),"",IF(M17="",L17*N17,L17*M17)) -> 0
A18: ='Hinweis und Übungsstätten'!B19 -> Kindergarten Am Graben | J18: =SUM(D18:I18) -> 0 | K18: ='Hinweis und Übungsstätten'!C19 -> 3 | L18: =J18*K18 -> 0 | M18: =IF(AND(L18>0,N18=""),Vereinsdaten!$E$12,"") | O18: =IF(AND(L18="",N18=""),"",IF(M18="",L18*N18,L18*M18)) -> 0
C19: Gesamt | D19: =SUM(D7:D18) -> 0 | E19: =SUM(E7:E18) -> 0 | F19: =SUM(F7:F18) -> 0 | G19: =SUM(G7:G18) -> 0 | H19: =SUM(H7:H18) -> 0 | I19: =SUM(I7:I18) -> 0 | J19: =SUM(D19:I19) -> 0 | O19: =SUM(O7:O18) -> 0
A20: ='Hinweis und Übungsstätten'!B21 -> Platz 1 Stadion Hauptplatz | J20: =SUM(D20:I20) -> 0 | K20: ='Hinweis und Übungsstätten'!C21 -> 6 | L20: =J20*K20 -> 0 | M20: =IF(AND(L20>0,N20=""),Vereinsdaten!$E$12,"") | O20: =IF(AND(L20="",N20=""),"",IF(M20="",L20*N20,L20*M20)) -> 0
A21: ='Hinweis und Übungsstätten'!B22 -> Platz 2 Stadion Kunstrasen | J21: =SUM(D21:I21) -> 0 | K21: ='Hinweis und Übungsstätten'!C22 -> 6 | L21: =J21*K21 -> 0 | M21: =IF(AND(L21>0,N21=""),Vereinsdaten!$E$12,"") | O21: =IF(AND(L21="",N21=""),"",IF(M21="",L21*N21,L21*M21)) -> 0
C22: Gesamt | D22: =SUM(D20:D21) -> 0 | E22: =SUM(E20:E21) -> 0 | F22: =SUM(F20:F21) -> 0 | G22: =SUM(G20:G21) -> 0 | H22: =SUM(H20:H21) -> 0 | I22: =SUM(I20:I21) -> 0 | J22: =SUM(D22:I22) -> 0 | O22: =SUM(O20:O21) -> 0 | P22: Eine verlängerte oder verkürzte Wintersaison kann eine veränderte Nutzung der Außenanlagen begründen, ggf. aber zu verlängerten Hallenbelegzeiten führen.
A23: ='Hinweis und Übungsstätten'!B23 -> Platz 3 Nebenplatz am KKH | J23: =SUM(D23:I23) -> 0 | K23: ='Hinweis und Übungsstätten'!C23 -> 3 | L23: =J23*K23 -> 0 | M23: =IF(AND(L23>0,N23=""),Vereinsdaten!$E$12,"") | O23: =IF(AND(L23="",N23=""),"",IF(M23="",L23*N23,L23*M23)) -> 0
A24: ='Hinweis und Übungsstätten'!B24 -> 0 | J24: =SUM(D24:I24) -> 0 | K24: ='Hinweis und Übungsstätten'!C24 -> 0 | L24: =J24*K24 -> 0 | M24: =IF(AND(L24>0,N24=""),Vereinsdaten!$E$12,"") | O24: =IF(AND(L24="",N24=""),"",IF(M24="",L24*N24,L24*M24)) -> 0
A25: ='Hinweis und Übungsstätten'!B25 -> Leichtathletikanlage | J25: =SUM(D25:I25) -> 0 | K25: ='Hinweis und Übungsstätten'!C25 -> 1.5 | L25: =J25*K25 -> 0 | M25: =IF(AND(L25>0,N25=""),Vereinsdaten!$E$12,"") | O25: =IF(AND(L25="",N25=""),"",IF(M25="",L25*N25,L25*M25)) -> 0
C26: Gesamt | D26: =SUM(D23:D25) -> 0 | E26: =SUM(E23:E25) -> 0 | F26: =SUM(F23:F25) -> 0 | G26: =SUM(G23:G25) -> 0 | H26: =SUM(H23:H25) -> 0 | I26: =SUM(I23:I25) -> 0 | J26: =SUM(D26:I26) -> 0 | O26: =SUM(O23:O25) -> 0
A27: Nebenkostenabrechnung: | G27: Siehe beiliegende Abrechnung/Rechnungen
A28: Rechnungsbetrag | G28: =O19+O22+O26 -> 0 | J28: =Vereinsdaten!J6&"," -> 87509 Immenstadt, | M28: =Vereinsdaten!D3 -> 44197 | N28: =Vereinsdaten!J5 -> 0
A29: Betrag ggf. erst nach Rechnungsstellung überweisen, wird mit der Sportförderung verrechnet! | J29: Ort Datum | N29: 1. Vorsitzende/r
A30: Die Formulare Sommer- und Winterbelegung sind zum Termin 1. April des Folgejahres bei der Sportabteilung der Stadt Immenstadt i. Allgäu einzureichen.
A31: Anrechenbare Nebenkosten sind mit der Nebenkostenabrechnung und beigefügten Rechnungen nachweisen. | P31: ='Hinweis und Übungsstätten'!Q2 -> ©swegmann/05.2020

Sheet Sommer_April-August
A1: Verein | B1: =Vereinsdaten!D4 -> 0 | E1: Abrechnung erstellt Name Vorname | G1: =Vereinsdaten!D5&", "&Vereinsdaten!D6 -> , | N1: Tel: | O1: =Vereinsdaten!D7 -> 0 | Q1: =IF(B1=0,"Bitte Tabelle Vereinsdaten vollständig ausfüllen","") -> Bitte Tabelle Vereinsdaten vollständig ausfüllen
C2: Abrechnung der Sport-/Übungsstätten - Sommerbelegung | N2: =Vereinsdaten!J3 -> 43831
D3: vom | E3: =Vereinsdaten!G11 -> 45748 | G3: bis | H3: =Vereinsdaten!H11 -> 45869
D4: Trainingszeiten | J4: Wochen- stunden | K4: Stunden- satz | L4: Betrag pro Woche | M4: *Regel- belegung Wochen | N4: **Tats. belegt: Wochen | O4: Kosten pro Wochen gesamt | P4: Hinweise:
D5: Nur für überwiegend erwachsene Teilnehmer
A6: Sport-/Übungsstätten | D6: Mo | E6: Di | F6: Mi | G6: Do | H6: Fr | I6: Sa
A7: ='Hinweis und Übungsstätten'!B8 -> Grüntenhalle | J7: =SUM(D7:I7) -> 0 | K7: ='Hinweis und Übungsstätten'!C8 -> 3 | L7: =J7*K7 -> 0 | M7: =IF(AND(L7>0,N7=""),Vereinsdaten!G12,"") | O7: =IF(AND(L7="",N7=""),"",IF(M7="",L7*N7,L7*M7)) -> 0 | P7: Julius-Kunert-Halle:
A8: ='Hinweis und Übungsstätten'!B9 -> Jul-Kunert-Halle Kraftraum | J8: =SUM(D8:I8) -> 0 | K8: ='Hinweis und Übungsstätten'!C9 -> 3 | L8: =J8*K8 -> 0 | M8: =IF(AND(L8>0,N8=""),Vereinsdaten!G12,"") | O8: =IF(AND(L8="",N8=""),"",IF(M8="",L8*N8,L8*M8)) -> 0 | P8: Jede Halleneinheit einzeln erfassen (eine Stunde Gesamthalle, dann Eingabe in jedem Drittel erforderlich).
A9: ='Hinweis und Übungsstätten'!B10 -> Julius-Kunert-Halle 1 | J9: =SUM(D9:I9) -> 0 | K9: ='Hinweis und Übungsstätten'!C10 -> 3 | L9: =J9*K9 -> 0 | M9: =IF(AND(L9>0,N9=""),Vereinsdaten!G12,"") | O9: =IF(AND(L9="",N9=""),"",IF(M9="",L9*N9,L9*M9)) -> 0
A10: ='Hinweis und Übungsstätten'!B11 -> Julius-Kunert-Halle 2 | J10: =SUM(D10:I10) -> 0 | K10: ='Hinweis und Übungsstätten'!C11 -> 3 | L10: =J10*K10 -> 0 | M10: =IF(AND(L10>0,N10=""),Vereinsdaten!G12,"") | O10: =IF(AND(L10="",N10=""),"",IF(M10="",L10*N10,L10*M10)) -> 0
A11: ='Hinweis und Übungsstätten'!B12 -> Julius-Kunert-Halle 3 | J11: =SUM(D11:I11) -> 0 | K11: ='Hinweis und Übungsstätten'!C12 -> 3 | L11: =J11*K11 -> 0 | M11: =IF(AND(L11>0,N11=""),Vereinsdaten!G12,"") | O11: =IF(AND(L11="",N11=""),"",IF(M11="",L11*N11,L11*M11)) -> 0
A12: ='Hinweis und Übungsstätten'!B13 -> Königsegghalle | J12: =SUM(D12:I12) -> 0 | K12: ='Hinweis und Übungsstätten'!C13 -> 3 | L12: =J12*K12 -> 0 | M12: =IF(AND(L12>0,N12=""),Vereinsdaten!G12,"") | O12: =IF(AND(L12="",N12=""),"",IF(M12="",L12*N12,L12*M12)) -> 0 | P12: *Regelbelegung:
A13: ='Hinweis und Übungsstätten'!B14 -> Maria Stern | J13: =SUM(D13:I13) -> 0 | K13: ='Hinweis und Übungsstätten'!C14 -> 3 | L13: =J13*K13 -> 0 | M13: =IF(AND(L13>0,N13=""),Vereinsdaten!G12,"") | O13: =IF(AND(L13="",N13=""),"",IF(M13="",L13*N13,L13*M13)) -> 0 | P13: Die Wochenbelegung berech-net sich für jedes Quartal unter Berücksichtigung der Ferien automatisch.
A14: ='Hinweis und Übungsstätten'!B15 -> Sporthalle Stein | J14: =SUM(D14:I14) -> 0 | K14: ='Hinweis und Übungsstätten'!C15 -> 3 | L14: =J14*K14 -> 0 | M14: =IF(AND(L14>0,N14=""),Vereinsdaten!G12,"") | O14: =IF(AND(L14="",N14=""),"",IF(M14="",L14*N14,L14*M14)) -> 0
A15: ='Hinweis und Übungsstätten'!B16 -> Hallenbad | J15: =SUM(D15:I15) -> 0 | K15: ='Hinweis und Übungsstätten'!C16 -> 3 | L15: =J15*K15 -> 0 | M15: =IF(AND(L15>0,N15=""),Vereinsdaten!G12,"") | O15: =IF(AND(L15="",N15=""),"",IF(M15="",L15*N15,L15*M15)) -> 0
A16: ='Hinweis und Übungsstätten'!B17 -> Schießanlage | J16: =SUM(D16:I16) -> 0 | K16: ='Hinweis und Übungsstätten'!C17 -> 3 | L16: =J16*K16 -> 0 | M16: =IF(AND(L16>0,N16=""),Vereinsdaten!G12,"") | O16: =IF(AND(L16="",N16=""),"",IF(M16="",L16*N16,L16*M16)) -> 0 | P16: Eingabe nur, wenn die tatsächliche Belegung von der Regelbelegung abweicht. Z.B.: Fußball/Leichtathletik Trainingsausfälle begründen keine Reduzierung!
A17: ='Hinweis und Übungsstätten'!B18 -> Alte Schule - Jahnstraße | J17: =SUM(D17:I17) -> 0 | K17: ='Hinweis und Übungsstätten'!C18 -> 3 | L17: =J17*K17 -> 0 | M17: =IF(AND(L17>0,N17=""),Vereinsdaten!G12,"") | O17: =IF(AND(L17="",N17=""),"",IF(M17="",L17*N17,L17*M17)) -> 0
A18: ='Hinweis und Übungsstätten'!B19 -> Kindergarten Am Graben | J18: =SUM(D18:I18) -> 0 | K18: ='Hinweis und Übungsstätten'!C19 -> 3 | L18: =J18*K18 -> 0 | M18: =IF(AND(L18>0,N18=""),Vereinsdaten!G12,"") | O18: =IF(AND(L18="",N18=""),"",IF(M18="",L18*N18,L18*M18)) -> 0 | P18: Eingabe nur, wenn die tatsäch-liche Belegung der jeweiligen Sportstätte von der Regelbele-gung abweicht. Z.B.: Fußball/Leichtathletik
C19: Gesamt | D19: =SUM(D7:D18) -> 0 | E19: =SUM(E7:E18) -> 0 | F19: =SUM(F7:F18) -> 0 | G19: =SUM(G7:G18) -> 0 | H19: =SUM(H7:H18) -> 0 | I19: =SUM(I7:I18) -> 0 | J19: =SUM(D19:I19) -> 0 | O19: =SUM(O7:O18) -> 0
A20: ='Hinweis und Übungsstätten'!B21 -> Platz 1 Stadion Hauptplatz | J20: =SUM(D20:I20) -> 0 | K20: ='Hinweis und Übungsstätten'!C21 -> 6 | L20: =J20*K20 -> 0 | M20: =IF(AND(L20>0,N20=""),Vereinsdaten!G12,"") | O20: =IF(AND(L20="",N20=""),"",IF(M20="",L20*N20,L20*M20)) -> 0
A21: ='Hinweis und Übungsstätten'!B22 -> Platz 2 Stadion Kunstrasen | J21: =SUM(D21:I21) -> 0 | K21: ='Hinweis und Übungsstätten'!C22 -> 6 | L21: =J21*K21 -> 0 | M21: =IF(AND(L21>0,N21=""),Vereinsdaten!G12,"") | O21: =IF(AND(L21="",N21=""),"",IF(M21="",L21*N21,L21*M21)) -> 0
C22: Gesamt | D22: =SUM(D20:D21) -> 0 | E22: =SUM(E20:E21) -> 0 | F22: =SUM(F20:F21) -> 0 | G22: =SUM(G20:G21) -> 0 | H22: =SUM(H20:H21) -> 0 | I22: =SUM(I20:I21) -> 0 | J22: =SUM(D22:I22) -> 0 | O22: =SUM(O20:O21) -> 0 | P22: Eine verlängerte oder verkürzte Wintersaison kann eine veränderte Nutzung der Außenanlagen begründen, ggf. aber zu verlängerten Hallenbelegzeiten führen.
A23: ='Hinweis und Übungsstätten'!B23 -> Platz 3 Nebenplatz am KKH | J23: =SUM(D23:I23) -> 0 | K23: ='Hinweis und Übungsstätten'!C23 -> 3 | L23: =J23*K23 -> 0 | M23: =IF(AND(L23>0,N23=""),Vereinsdaten!G12,"") | O23: =IF(AND(L23="",N23=""),"",IF(M23="",L23*N23,L23*M23)) -> 0
A24: ='Hinweis und Übungsstätten'!B24 -> 0 | J24: =SUM(D24:I24) -> 0 | K24: ='Hinweis und Übungsstätten'!C24 -> 0 | L24: =J24*K24 -> 0 | M24: =IF(AND(L24>0,N24=""),Vereinsdaten!G12,"") | O24: =IF(AND(L24="",N24=""),"",IF(M24="",L24*N24,L24*M24)) -> 0
A25: ='Hinweis und Übungsstätten'!B25 -> Leichtathletikanlage | J25: =SUM(D25:I25) -> 0 | K25: ='Hinweis und Übungsstätten'!C25 -> 1.5 | L25: =J25*K25 -> 0 | M25: =IF(AND(L24>0,N24=""),Vereinsdaten!G12,"") | O25: =IF(AND(L25="",N25=""),"",IF(M25="",L25*N25,L25*M25)) -> 0
C26: Gesamt | D26: =SUM(D23:D25) -> 0 | E26: =SUM(E23:E25) -> 0 | F26: =SUM(F23:F25) -> 0 | G26: =SUM(G23:G25) -> 0 | H26: =SUM(H23:H25) -> 0 | I26: =SUM(I23:I25) -> 0 | J26: =SUM(D26:I26) -> 0 | O26: =SUM(O23:O25) -> 0
A27: Nebenkostenabrechnung: | G27: Siehe beiliegende Abrechnung/Rechnungen
A28: Rechnungsbetrag | G28: =O19+O22+O26 -> 0 | J28: =Vereinsdaten!J6&", " -> 87509 Immenstadt, | M28: =Vereinsdaten!D3 -> 44197 | N28: =Vereinsdaten!J5 -> 0
A29: Betrag ggf. erst nach Rechnungsstellung überweisen, wird mit der Sportförderung verrechnet! | J29: Ort Datum | N29: 1. Vorsitzende/r
A30: Die Formulare Sommer- und Winterbelegung sind zum Termin 1. April des Folgejahres bei der Sportabteilung der Stadt Immenstadt i. Allgäu einzureichen.
A31: Anrechenbare Nebenkosten sind mit der Nebenkostenabrechnung und beigefügten Rechnungen nachweisen. | P31: ='Hinweis und Übungsstätten'!Q2 -> ©swegmann/05.2020

Sheet Winter_Sept-Dez)
A1: Verein | B1: =Vereinsdaten!D4 -> 0 | E1: Abrechnung erstellt Name Vorname | G1: =Vereinsdaten!D5&", "&Vereinsdaten!D6 -> , | N1: Tel: | O1: =Vereinsdaten!D7 -> 0 | Q1: =IF(B1=0,"Bitte Tabelle Vereinsdaten vollständig ausfüllen","") -> Bitte Tabelle Vereinsdaten vollständig ausfüllen
C2: Abrechnung der Sport-/Übungsstätten - Herbst und Winter 2: | N2: =Vereinsdaten!J3 -> 43831
D3: vom | E3: =Vereinsdaten!I11 -> 45901 | G3: bis | H3: =Vereinsdaten!N11 -> 46022
D4: Trainingszeiten | J4: Wochen- stunden | K4: Stunden- satz | L4: Betrag pro Woche | M4: *Regel- belegung Wochen | N4: **Tats. belegt: Wochen | O4: Kosten pro Wochen gesamt | P4: Hinweise:
D5: Nur für überwiegend erwachsene Teilnehmer
A6: Sport-/Übungsstätten | D6: Mo | E6: Di | F6: Mi | G6: Do | H6: Fr | I6: Sa
A7: ='Hinweis und Übungsstätten'!B8 -> Grüntenhalle | J7: =SUM(D7:I7) -> 0 | K7: ='Hinweis und Übungsstätten'!C8 -> 3 | L7: =J7*K7 -> 0 | M7: =IF(AND(L7>0,N7=""),Vereinsdaten!M12,"") | O7: =IF(AND(L7="",N7=""),"",IF(M7="",L7*N7,L7*M7)) -> 0 | P7: Julius-Kunert-Halle:
A8: ='Hinweis und Übungsstätten'!B9 -> Jul-Kunert-Halle Kraftraum | J8: =SUM(D8:I8) -> 0 | K8: ='Hinweis und Übungsstätten'!C9 -> 3 | L8: =J8*K8 -> 0 | M8: =IF(AND(L8>0,N8=""),Vereinsdaten!K12,"") | O8: =IF(AND(L8="",N8=""),"",IF(M8="",L8*N8,L8*M8)) -> 0 | P8: Jede Halleneinheit einzeln erfassen (eine Stunde Gesamthalle, dann Eingabe in jedem Drittel erforderlich).
A9: ='Hinweis und Übungsstätten'!B10 -> Julius-Kunert-Halle 1 | J9: =SUM(D9:I9) -> 0 | K9: ='Hinweis und Übungsstätten'!C10 -> 3 | L9: =J9*K9 -> 0 | M9: =IF(AND(L9>0,N9=""),Vereinsdaten!K12,"") | O9: =IF(AND(L9="",N9=""),"",IF(M9="",L9*N9,L9*M9)) -> 0
A10: ='Hinweis und Übungsstätten'!B11 -> Julius-Kunert-Halle 2 | J10: =SUM(D10:I10) -> 0 | K10: ='Hinweis und Übungsstätten'!C11 -> 3 | L10: =J10*K10 -> 0 | M10: =IF(AND(L10>0,N10=""),Vereinsdaten!K12,"") | O10: =IF(AND(L10="",N10=""),"",IF(M10="",L10*N10,L10*M10)) -> 0
A11: ='Hinweis und Übungsstätten'!B12 -> Julius-Kunert-Halle 3 | J11: =SUM(D11:I11) -> 0 | K11: ='Hinweis und Übungsstätten'!C12 -> 3 | L11: =J11*K11 -> 0 | M11: =IF(AND(L11>0,N11=""),Vereinsdaten!K12,"") | O11: =IF(AND(L11="",N11=""),"",IF(M11="",L11*N11,L11*M11)) -> 0
A12: ='Hinweis und Übungsstätten'!B13 -> Königsegghalle | J12: =SUM(D12:I12) -> 0 | K12: ='Hinweis und Übungsstätten'!C13 -> 3 | L12: =J12*K12 -> 0 | M12: =IF(AND(L12>0,N12=""),Vereinsdaten!M12,"") | O12: =IF(AND(L12="",N12=""),"",IF(M12="",L12*N12,L12*M12)) -> 0 | P12: *Regelbelegung:
A13: ='Hinweis und Übungsstätten'!B14&"; - Miete an Schule -" -> Maria Stern; - Miete an Schule - | J13: =SUM(D13:I13) -> 0 | K13: 0 | L13: =J13*K13 -> 0 | O13: =IF(AND(L13="",N13=""),"",IF(M13="",L13*N13,L13*M13)) -> 0 | P13: Die Wochenbelegung berechnet sich für das 1. Quartal unter Berücksichtigung der Ferien automatisch.
A14: ='Hinweis und Übungsstätten'!B15 -> Sporthalle Stein | J14: =SUM(D14:I14) -> 0 | K14: ='Hinweis und Übungsstätten'!C15 -> 3 | L14: =J14*K14 -> 0 | M14: =IF(AND(L14>0,N14=""),Vereinsdaten!M12,"") | O14: =IF(AND(L14="",N14=""),"",IF(M14="",L14*N14,L14*M14)) -> 0
A15: ='Hinweis und Übungsstätten'!B16 -> Hallenbad | J15: =SUM(D15:I15) -> 0 | K15: ='Hinweis und Übungsstätten'!C16 -> 3 | L15: =J15*K15 -> 0 | M15: =IF(AND(L15>0,N15=""),Vereinsdaten!M12,"") | O15: =IF(AND(L15="",N15=""),"",IF(M15="",L15*N15,L15*M15)) -> 0
A16: ='Hinweis und Übungsstätten'!B17 -> Schießanlage | J16: =SUM(D16:I16) -> 0 | K16: ='Hinweis und Übungsstätten'!C17 -> 3 | L16: =J16*K16 -> 0 | M16: =IF(AND(L16>0,N16=""),Vereinsdaten!M12,"") | O16: =IF(AND(L16="",N16=""),"",IF(M16="",L16*N16,L16*M16)) -> 0 | P16: Eingabe nur, wenn die tatsächliche Belegung von der Regelbelegung abweicht. Z.B.: Fußball/Leichtathletik Trainingsausfälle begründen keine Reduzierung!
A17: ='Hinweis und Übungsstätten'!B18 -> Alte Schule - Jahnstraße | J17: =SUM(D17:I17) -> 0 | K17: ='Hinweis und Übungsstätten'!C18 -> 3 | L17: =J17*K17 -> 0 | M17: =IF(AND(L17>0,N17=""),Vereinsdaten!M12,"") | O17: =IF(AND(L17="",N17=""),"",IF(M17="",L17*N17,L17*M17)) -> 0
A18: ='Hinweis und Übungsstätten'!B19 -> Kindergarten Am Graben | J18: =SUM(D18:I18) -> 0 | K18: ='Hinweis und Übungsstätten'!C19 -> 3 | L18: =J18*K18 -> 0 | M18: =IF(AND(L18>0,N18=""),Vereinsdaten!M12,"") | O18: =IF(AND(L18="",N18=""),"",IF(M18="",L18*N18,L18*M18)) -> 0 | P18: Eingabe nur, wenn die Bele-gung der jeweiligen Sportstätte von der Regelbelegung abweicht.
C19: Gesamt | D19: =SUM(D7:D18) -> 0 | E19: =SUM(E7:E18) -> 0 | F19: =SUM(F7:F18) -> 0 | G19: =SUM(G7:G18) -> 0 | H19: =SUM(H7:H18) -> 0 | I19: =SUM(I7:I18) -> 0 | J19: =SUM(D19:I19) -> 0 | O19: =SUM(O7:O18) -> 0
A20: ='Hinweis und Übungsstätten'!B21 -> Platz 1 Stadion Hauptplatz | J20: =SUM(D20:I20) -> 0 | K20: ='Hinweis und Übungsstätten'!C21 -> 6 | L20: =J20*K20 -> 0 | M20: =IF(AND(L20>0,N20=""),Vereinsdaten!I12,"") | O20: =IF(AND(L20="",N20=""),"",IF(M20="",L20*N20,L20*M20)) -> 0
A21: ='Hinweis und Übungsstätten'!B22 -> Platz 2 Stadion Kunstrasen | J21: =SUM(D21:I21) -> 0 | K21: ='Hinweis und Übungsstätten'!C22 -> 6 | L21: =J21*K21 -> 0 | M21: =IF(AND(L21>0,N21=""),Vereinsdaten!I12,"") | O21: =IF(AND(L21="",N21=""),"",IF(M21="",L21*N21,L21*M21)) -> 0 | P21: Hier kann sich durch eine verlängerte oder verkürzte Wintersaison eine veränder-te Nutzung der Außenanla-gen und damit auch eine veränderte Hallenbelegung ergeben. Die Jul.-Kunert-Halle wird ab dem 1. Sept. berechnet!
C22: Gesamt | D22: =SUM(D20:D21) -> 0 | E22: =SUM(E20:E21) -> 0 | F22: =SUM(F20:F21) -> 0 | G22: =SUM(G20:G21) -> 0 | H22: =SUM(H20:H21) -> 0 | I22: =SUM(I20:I21) -> 0 | J22: =SUM(D22:I22) -> 0 | O22: =SUM(O20:O21) -> 0
A23: ='Hinweis und Übungsstätten'!B23 -> Platz 3 Nebenplatz am KKH | J23: =SUM(D23:I23) -> 0 | K23: ='Hinweis und Übungsstätten'!C23 -> 3 | L23: =J23*K23 -> 0 | M23: =IF(AND(L23>0,N23=""),Vereinsdaten!I12,"") | O23: =IF(AND(L23="",N23=""),"",IF(M23="",L23*N23,L23*M23)) -> 0
A24: ='Hinweis und Übungsstätten'!B24 -> 0 | J24: =SUM(D24:I24) -> 0 | K24: ='Hinweis und Übungsstätten'!C24 -> 0 | L24: =J24*K24 -> 0 | M24: =IF(AND(L24>0,N24=""),Vereinsdaten!I12,"") | O24: =IF(AND(L24="",N24=""),"",IF(M24="",L24*N24,L24*M24)) -> 0
A25: ='Hinweis und Übungsstätten'!B25 -> Leichtathletikanlage | J25: =SUM(D25:I25) -> 0 | K25: ='Hinweis und Übungsstätten'!C25 -> 1.5 | L25: =J25*K25 -> 0 | M25: =IF(AND(L25>0,N25=""),Vereinsdaten!I12,"") | O25: =IF(AND(L25="",N25=""),"",IF(M25="",L25*N25,L25*M25)) -> 0
C26: Gesamt | D26: =SUM(D23:D25) -> 0 | E26: =SUM(E23:E25) -> 0 | F26: =SUM(F23:F25) -> 0 | G26: =SUM(G23:G25) -> 0 | H26: =SUM(H23:H25) -> 0 | I26: =SUM(I23:I25) -> 0 | J26: =SUM(D26:I26) -> 0 | O26: =SUM(O23:O25) -> 0
A27: Nebenkostenabrechnung: | G27: Siehe beiliegende Abrechnung/Rechnungen
A28: Rechnungsbetrag | G28: =O19+O22+O26 -> 0 | J28: =Vereinsdaten!J6&"," -> 87509 Immenstadt, | M28: =Vereinsdaten!D3 -> 44197 | N28: =Vereinsdaten!J5 -> 0
A29: Betrag ggf. erst nach Rechnungsstellung überweisen, wird mit der Sportförderung verrechnet! | J29: Ort Datum | N29: 1. Vorsitzende/r
A30: Die Formulare Sommer- und Winterbelegung sind zum Termin 1. April des Folgejahres bei der Sportabteilung der Stadt Immenstadt i. Allgäu einzureichen.
A31: Anrechenbare Nebenkosten sind mit der Nebenkostenabrechnung und beigefügten Rechnungen nachweisen. | P31: ='Hinweis und Übungsstätten'!Q2 -> ©swegmann/05.2020

Sheet Anl 10 Nebenkosten
A1: Nebenkostenabrechnung* | K1: =IF(Vereinsdaten!D8="","ACHTUNG Bitte in Tabelle <Belegzeiten_Vereinsdaten> Sport-/Übungsstätte eingeben","") -> ACHTUNG Bitte in Tabelle <Belegzeiten_Vereinsdaten> Sport-/Übungsstätte eingeben
A2: =Winter_Jan_März!N2 -> 43831
A3: Jahr
A4: Dem | B4: =Vereinsdaten!D4 -> 0
A5: =Winter_Jan_März!C1 -> 0
A6: Vereinsname
A7: sind beim Betrieb nachfolgender städtischer Sport-/Übungsstätte
B8: =IF(Vereinsdaten!D8="","",LOOKUP(Vereinsdaten!D8,'Hinweis und Übungsstätten'!A8:A26,'Hinweis und Übungsstätten'!B8:B26))
A9: Sport-/Übungsstätte
A10: folgende anrechenbare Kosten entstanden:**
A11: 1. Strom: | I11: Betrag
A12: Betrag lt. Abrechnung:
A13: abzügl. Fremdanteil | H13: =D12-D13 -> 0
A14: 2. Wasser/Abwasser
A15: Betrag lt. Abrechnung:
A16: abzügl. Fremdanteil | H16: =D15-D16 -> 0
A17: 3. Heizung:
A18: Betrag lt. Abrechnung:
A19: abzügl. Fremdanteil | H19: =D18-D19 -> 0
A20: 4. Reinigungskosten: | H20: =F20 -> 0
A21: Betrag lt. Abrechnung:
A22: abzügl. Fremdanteil | H22: =D21-D22 -> 0
A23: 5. Sonstige Nebenkosten
A27: abzügl. Fremdanteil | H27: =SUM(D24:D26)-D27 -> 0
A28: Nebenkosten Gesamt | H28: =SUM(H12:I27) -> 0
A29: Die Sport-/Übungsstätte wird von weiteren Vereinen genutzt
A30: Name des Vereines:
A31: Die Kosten wurden anteilig berechnet
E32: Für die Richtigkeit
D33: =Vereinsdaten!D3 -> 44197
A34: =Vereinsdaten!D6&" "&Vereinsdaten!D5 | F34: =Vereinsdaten!J5 -> 0
A35: Abrechnung erstellt | D35: Datum | F35: Unterschrift/Vereinsvorsitzender
A37: * Nebenkosten sind ggf. auf den Eigenanteil zu kürzen
A38: ** Alle Nebenkosten sind durch Gebührenrechnungen (Strom/Wasser etc.) zu belegen
H39: ='Hinweis und Übungsstätten'!Q2 -> ©swegmann/05.2020
